BEGIN:VCALENDAR
VERSION:2.0
PRODID:-//mitmachen-wanne-sued - ECPv6.3.0//NONSGML v1.0//EN
CALSCALE:GREGORIAN
METHOD:PUBLISH
X-WR-CALNAME:mitmachen-wanne-sued
X-ORIGINAL-URL:https://mitmachen-wanne-sued.de
X-WR-CALDESC:Veranstaltungen für mitmachen-wanne-sued
REFRESH-INTERVAL;VALUE=DURATION:PT1H
X-Robots-Tag:noindex
X-PUBLISHED-TTL:PT1H
BEGIN:VTIMEZONE
TZID:Europe/Berlin
BEGIN:DAYLIGHT
TZOFFSETFROM:+0100
TZOFFSETTO:+0200
TZNAME:CEST
DTSTART:20290325T010000
END:DAYLIGHT
BEGIN:STANDARD
TZOFFSETFROM:+0200
TZOFFSETTO:+0100
TZNAME:CET
DTSTART:20291028T010000
END:STANDARD
END:VTIMEZONE
BEGIN:VEVENT
DTSTART;TZID=Europe/Berlin:20290403T103000
DTEND;TZID=Europe/Berlin:20290403T123000
DTSTAMP:20260421T170054
CREATED:20250903T115406Z
LAST-MODIFIED:20250903T115407Z
UID:10005436-1869906600-1869913800@mitmachen-wanne-sued.de
SUMMARY:Spieletreff - DRK
DESCRIPTION:Hier geht's zum Programm der 38. Herner Gesundheitswoche\n		\n					\n		\n				\n				\n					\n		\n							\n		\n				\n						\n					\n			\n								\n				\n							Resilienzförderung ist zentrales Anliegen und zugleich Motivation der unter Leitung des Bildungsbüros Herne entstandenen AG „Ideenschmiede Bildung für nachhaltige Entwicklung (BNE)“ im Sozialraum Wanne-Süd. Die sich hier engagierenden Einrichtungen geben an diesem Thementag mit verschiedenen Veranstaltungen Einblick in die einzigartige Sozialraum- und Bildungsarbeit.   Das Programm umfasst: 09:00 – 12:00 Uhr Gemeinsames Frühstück in der Mensa der Grundschule Freiherr-vom-Stein   10:30 – 12:00 Uhr Präsentation zum Thema „Netzwerkarbeit im Quartier zum Wohle aller“   12.15 – 13.15 Uhr Glückstraining für Groß und Klein mit Lesung   13:00 – 13.30 Uhr Meditation zur Mittagspause in St. Joseph   16:00 – 17:00 Uhr Lachyoga in der AWO-Begegnungsstätte   20:00 – 21:00 Uhr Offene Kirche am Abend   Interessierte Bürger:innen aus dem Stadtteil sind zu allen Veranstaltungen herzlich eingeladen!  
URL:https://mitmachen-wanne-sued.de/event/spieletreff-drk-2/2029-04-03
LOCATION:DRK- Geschäftsstelle\, Harkortstr. 29\, Herne\, 44652
CATEGORIES:Aktion von Partnern
END:VEVENT
BEGIN:VEVENT
DTSTART;TZID=Europe/Berlin:20290403T120000
DTEND;TZID=Europe/Berlin:20290403T150000
DTSTAMP:20260421T170055
CREATED:20250213T152701Z
LAST-MODIFIED:20250213T153308Z
UID:10004491-1869912000-1869922800@mitmachen-wanne-sued.de
SUMMARY:Bingo im Blickwechsel 1a
DESCRIPTION:Hier geht's zum Programm der 38. Herner Gesundheitswoche\n		\n					\n		\n				\n				\n					\n		\n							\n		\n				\n						\n					\n			\n								\n				\n							Resilienzförderung ist zentrales Anliegen und zugleich Motivation der unter Leitung des Bildungsbüros Herne entstandenen AG „Ideenschmiede Bildung für nachhaltige Entwicklung (BNE)“ im Sozialraum Wanne-Süd. Die sich hier engagierenden Einrichtungen geben an diesem Thementag mit verschiedenen Veranstaltungen Einblick in die einzigartige Sozialraum- und Bildungsarbeit.   Das Programm umfasst: 09:00 – 12:00 Uhr Gemeinsames Frühstück in der Mensa der Grundschule Freiherr-vom-Stein   10:30 – 12:00 Uhr Präsentation zum Thema „Netzwerkarbeit im Quartier zum Wohle aller“   12.15 – 13.15 Uhr Glückstraining für Groß und Klein mit Lesung   13:00 – 13.30 Uhr Meditation zur Mittagspause in St. Joseph   16:00 – 17:00 Uhr Lachyoga in der AWO-Begegnungsstätte   20:00 – 21:00 Uhr Offene Kirche am Abend   Interessierte Bürger:innen aus dem Stadtteil sind zu allen Veranstaltungen herzlich eingeladen!  
URL:https://mitmachen-wanne-sued.de/event/bingo-im-blickwechsel-1a/2029-04-03
LOCATION:Blickwechsel 1a\, Im Sportpark 1a\, Herne\, Nordrhein-Westfalen\, 44652\, Germany
CATEGORIES:Aktion von Partnern
ATTACH;FMTTYPE=image/png:https://mitmachen-wanne-sued.de/wp-content/uploads/2025/02/Screenshot-2025-02-13-at-16-19-42--e1739460142278.png
END:VEVENT
BEGIN:VEVENT
DTSTART;TZID=Europe/Berlin:20290403T170000
DTEND;TZID=Europe/Berlin:20290403T183000
DTSTAMP:20260421T170055
CREATED:20250626T141656Z
LAST-MODIFIED:20250626T142210Z
UID:10005067-1869930000-1869935400@mitmachen-wanne-sued.de
SUMMARY:STREETKICKERZ GIRLS
DESCRIPTION:Hier geht's zum Programm der 38. Herner Gesundheitswoche\n		\n					\n		\n				\n				\n					\n		\n							\n		\n				\n						\n					\n			\n								\n				\n							Resilienzförderung ist zentrales Anliegen und zugleich Motivation der unter Leitung des Bildungsbüros Herne entstandenen AG „Ideenschmiede Bildung für nachhaltige Entwicklung (BNE)“ im Sozialraum Wanne-Süd. Die sich hier engagierenden Einrichtungen geben an diesem Thementag mit verschiedenen Veranstaltungen Einblick in die einzigartige Sozialraum- und Bildungsarbeit.   Das Programm umfasst: 09:00 – 12:00 Uhr Gemeinsames Frühstück in der Mensa der Grundschule Freiherr-vom-Stein   10:30 – 12:00 Uhr Präsentation zum Thema „Netzwerkarbeit im Quartier zum Wohle aller“   12.15 – 13.15 Uhr Glückstraining für Groß und Klein mit Lesung   13:00 – 13.30 Uhr Meditation zur Mittagspause in St. Joseph   16:00 – 17:00 Uhr Lachyoga in der AWO-Begegnungsstätte   20:00 – 21:00 Uhr Offene Kirche am Abend   Interessierte Bürger:innen aus dem Stadtteil sind zu allen Veranstaltungen herzlich eingeladen!  
URL:https://mitmachen-wanne-sued.de/event/streetkickerz-girls/2029-04-03
LOCATION:Bolzplatz im Dorneburger Park\, Bobenfeld / Am Böckenbusch\, Herne\, 44652\, Germany
ATTACH;FMTTYPE=image/jpeg:https://mitmachen-wanne-sued.de/wp-content/uploads/2025/06/IMG-20240924-WA0001.jpg
END:VEVENT
BEGIN:VEVENT
DTSTART;TZID=Europe/Berlin:20290405T180000
DTEND;TZID=Europe/Berlin:20290405T200000
DTSTAMP:20260421T170055
CREATED:20250327T134610Z
LAST-MODIFIED:20250327T134611Z
UID:10004657-1870106400-1870113600@mitmachen-wanne-sued.de
SUMMARY:E-Sport Training- DSC Wanne-Eickel Handball e.V.
DESCRIPTION:Hier geht's zum Programm der 38. Herner Gesundheitswoche\n		\n					\n		\n				\n				\n					\n		\n							\n		\n				\n						\n					\n			\n								\n				\n							Resilienzförderung ist zentrales Anliegen und zugleich Motivation der unter Leitung des Bildungsbüros Herne entstandenen AG „Ideenschmiede Bildung für nachhaltige Entwicklung (BNE)“ im Sozialraum Wanne-Süd. Die sich hier engagierenden Einrichtungen geben an diesem Thementag mit verschiedenen Veranstaltungen Einblick in die einzigartige Sozialraum- und Bildungsarbeit.   Das Programm umfasst: 09:00 – 12:00 Uhr Gemeinsames Frühstück in der Mensa der Grundschule Freiherr-vom-Stein   10:30 – 12:00 Uhr Präsentation zum Thema „Netzwerkarbeit im Quartier zum Wohle aller“   12.15 – 13.15 Uhr Glückstraining für Groß und Klein mit Lesung   13:00 – 13.30 Uhr Meditation zur Mittagspause in St. Joseph   16:00 – 17:00 Uhr Lachyoga in der AWO-Begegnungsstätte   20:00 – 21:00 Uhr Offene Kirche am Abend   Interessierte Bürger:innen aus dem Stadtteil sind zu allen Veranstaltungen herzlich eingeladen!  
URL:https://mitmachen-wanne-sued.de/event/e-sport-training-dsc-wanne-eickel-handball-e-v-2/2029-04-05
LOCATION:E-Sport Zentrum GG Open Lobby\, Hauptstraße 240\, Herne\, 44649
CATEGORIES:Aktion von Partnern
ATTACH;FMTTYPE=image/png:https://mitmachen-wanne-sued.de/wp-content/uploads/2023/10/cropped-Logo_DSC-E-Sport-1-1.png
ORGANIZER;CN="DSC Wanne-Eickel Handball e.V.":MAILTO:info@dsc-e-sport.de
END:VEVENT
BEGIN:VEVENT
DTSTART;TZID=Europe/Berlin:20290410T103000
DTEND;TZID=Europe/Berlin:20290410T123000
DTSTAMP:20260421T170055
CREATED:20250903T115406Z
LAST-MODIFIED:20250903T115407Z
UID:10005437-1870511400-1870518600@mitmachen-wanne-sued.de
SUMMARY:Spieletreff - DRK
DESCRIPTION:Hier geht's zum Programm der 38. Herner Gesundheitswoche\n		\n					\n		\n				\n				\n					\n		\n							\n		\n				\n						\n					\n			\n								\n				\n							Resilienzförderung ist zentrales Anliegen und zugleich Motivation der unter Leitung des Bildungsbüros Herne entstandenen AG „Ideenschmiede Bildung für nachhaltige Entwicklung (BNE)“ im Sozialraum Wanne-Süd. Die sich hier engagierenden Einrichtungen geben an diesem Thementag mit verschiedenen Veranstaltungen Einblick in die einzigartige Sozialraum- und Bildungsarbeit.   Das Programm umfasst: 09:00 – 12:00 Uhr Gemeinsames Frühstück in der Mensa der Grundschule Freiherr-vom-Stein   10:30 – 12:00 Uhr Präsentation zum Thema „Netzwerkarbeit im Quartier zum Wohle aller“   12.15 – 13.15 Uhr Glückstraining für Groß und Klein mit Lesung   13:00 – 13.30 Uhr Meditation zur Mittagspause in St. Joseph   16:00 – 17:00 Uhr Lachyoga in der AWO-Begegnungsstätte   20:00 – 21:00 Uhr Offene Kirche am Abend   Interessierte Bürger:innen aus dem Stadtteil sind zu allen Veranstaltungen herzlich eingeladen!  
URL:https://mitmachen-wanne-sued.de/event/spieletreff-drk-2/2029-04-10
LOCATION:DRK- Geschäftsstelle\, Harkortstr. 29\, Herne\, 44652
CATEGORIES:Aktion von Partnern
END:VEVENT
BEGIN:VEVENT
DTSTART;TZID=Europe/Berlin:20290410T170000
DTEND;TZID=Europe/Berlin:20290410T183000
DTSTAMP:20260421T170055
CREATED:20250626T141656Z
LAST-MODIFIED:20250626T142210Z
UID:10005068-1870534800-1870540200@mitmachen-wanne-sued.de
SUMMARY:STREETKICKERZ GIRLS
DESCRIPTION:Hier geht's zum Programm der 38. Herner Gesundheitswoche\n		\n					\n		\n				\n				\n					\n		\n							\n		\n				\n						\n					\n			\n								\n				\n							Resilienzförderung ist zentrales Anliegen und zugleich Motivation der unter Leitung des Bildungsbüros Herne entstandenen AG „Ideenschmiede Bildung für nachhaltige Entwicklung (BNE)“ im Sozialraum Wanne-Süd. Die sich hier engagierenden Einrichtungen geben an diesem Thementag mit verschiedenen Veranstaltungen Einblick in die einzigartige Sozialraum- und Bildungsarbeit.   Das Programm umfasst: 09:00 – 12:00 Uhr Gemeinsames Frühstück in der Mensa der Grundschule Freiherr-vom-Stein   10:30 – 12:00 Uhr Präsentation zum Thema „Netzwerkarbeit im Quartier zum Wohle aller“   12.15 – 13.15 Uhr Glückstraining für Groß und Klein mit Lesung   13:00 – 13.30 Uhr Meditation zur Mittagspause in St. Joseph   16:00 – 17:00 Uhr Lachyoga in der AWO-Begegnungsstätte   20:00 – 21:00 Uhr Offene Kirche am Abend   Interessierte Bürger:innen aus dem Stadtteil sind zu allen Veranstaltungen herzlich eingeladen!  
URL:https://mitmachen-wanne-sued.de/event/streetkickerz-girls/2029-04-10
LOCATION:Bolzplatz im Dorneburger Park\, Bobenfeld / Am Böckenbusch\, Herne\, 44652\, Germany
ATTACH;FMTTYPE=image/jpeg:https://mitmachen-wanne-sued.de/wp-content/uploads/2025/06/IMG-20240924-WA0001.jpg
END:VEVENT
BEGIN:VEVENT
DTSTART;TZID=Europe/Berlin:20290412T180000
DTEND;TZID=Europe/Berlin:20290412T200000
DTSTAMP:20260421T170055
CREATED:20250327T134610Z
LAST-MODIFIED:20250327T134611Z
UID:10004658-1870711200-1870718400@mitmachen-wanne-sued.de
SUMMARY:E-Sport Training- DSC Wanne-Eickel Handball e.V.
DESCRIPTION:Hier geht's zum Programm der 38. Herner Gesundheitswoche\n		\n					\n		\n				\n				\n					\n		\n							\n		\n				\n						\n					\n			\n								\n				\n							Resilienzförderung ist zentrales Anliegen und zugleich Motivation der unter Leitung des Bildungsbüros Herne entstandenen AG „Ideenschmiede Bildung für nachhaltige Entwicklung (BNE)“ im Sozialraum Wanne-Süd. Die sich hier engagierenden Einrichtungen geben an diesem Thementag mit verschiedenen Veranstaltungen Einblick in die einzigartige Sozialraum- und Bildungsarbeit.   Das Programm umfasst: 09:00 – 12:00 Uhr Gemeinsames Frühstück in der Mensa der Grundschule Freiherr-vom-Stein   10:30 – 12:00 Uhr Präsentation zum Thema „Netzwerkarbeit im Quartier zum Wohle aller“   12.15 – 13.15 Uhr Glückstraining für Groß und Klein mit Lesung   13:00 – 13.30 Uhr Meditation zur Mittagspause in St. Joseph   16:00 – 17:00 Uhr Lachyoga in der AWO-Begegnungsstätte   20:00 – 21:00 Uhr Offene Kirche am Abend   Interessierte Bürger:innen aus dem Stadtteil sind zu allen Veranstaltungen herzlich eingeladen!  
URL:https://mitmachen-wanne-sued.de/event/e-sport-training-dsc-wanne-eickel-handball-e-v-2/2029-04-12
LOCATION:E-Sport Zentrum GG Open Lobby\, Hauptstraße 240\, Herne\, 44649
CATEGORIES:Aktion von Partnern
ATTACH;FMTTYPE=image/png:https://mitmachen-wanne-sued.de/wp-content/uploads/2023/10/cropped-Logo_DSC-E-Sport-1-1.png
ORGANIZER;CN="DSC Wanne-Eickel Handball e.V.":MAILTO:info@dsc-e-sport.de
END:VEVENT
BEGIN:VEVENT
DTSTART;TZID=Europe/Berlin:20290413T100000
DTEND;TZID=Europe/Berlin:20290413T120000
DTSTAMP:20260421T170055
CREATED:20260107T121933Z
LAST-MODIFIED:20260108T121555Z
UID:10005639-1870768800-1870776000@mitmachen-wanne-sued.de
SUMMARY:Stadtteilfrühstück in Wanne-Süd
DESCRIPTION:Hier geht's zum Programm der 38. Herner Gesundheitswoche\n		\n					\n		\n				\n				\n					\n		\n							\n		\n				\n						\n					\n			\n								\n				\n							Resilienzförderung ist zentrales Anliegen und zugleich Motivation der unter Leitung des Bildungsbüros Herne entstandenen AG „Ideenschmiede Bildung für nachhaltige Entwicklung (BNE)“ im Sozialraum Wanne-Süd. Die sich hier engagierenden Einrichtungen geben an diesem Thementag mit verschiedenen Veranstaltungen Einblick in die einzigartige Sozialraum- und Bildungsarbeit.   Das Programm umfasst: 09:00 – 12:00 Uhr Gemeinsames Frühstück in der Mensa der Grundschule Freiherr-vom-Stein   10:30 – 12:00 Uhr Präsentation zum Thema „Netzwerkarbeit im Quartier zum Wohle aller“   12.15 – 13.15 Uhr Glückstraining für Groß und Klein mit Lesung   13:00 – 13.30 Uhr Meditation zur Mittagspause in St. Joseph   16:00 – 17:00 Uhr Lachyoga in der AWO-Begegnungsstätte   20:00 – 21:00 Uhr Offene Kirche am Abend   Interessierte Bürger:innen aus dem Stadtteil sind zu allen Veranstaltungen herzlich eingeladen!  
URL:https://mitmachen-wanne-sued.de/event/stadtteilfruehstueck-in-wanne-sued-2/2029-04-13
LOCATION:AWO-Begegungsstätte: Im Sportpark 5\, 44652 Herne\, Im Sportpark 5\, Herne\, 44652
CATEGORIES:Aktion von Partnern
ORGANIZER;CN="AWO Unterbezirk Ruhr-Mitte":MAILTO:herne@awo-ruhr-mitte.de
END:VEVENT
BEGIN:VEVENT
DTSTART;TZID=Europe/Berlin:20290417T103000
DTEND;TZID=Europe/Berlin:20290417T123000
DTSTAMP:20260421T170055
CREATED:20250903T115406Z
LAST-MODIFIED:20250903T115407Z
UID:10005438-1871116200-1871123400@mitmachen-wanne-sued.de
SUMMARY:Spieletreff - DRK
DESCRIPTION:Hier geht's zum Programm der 38. Herner Gesundheitswoche\n		\n					\n		\n				\n				\n					\n		\n							\n		\n				\n						\n					\n			\n								\n				\n							Resilienzförderung ist zentrales Anliegen und zugleich Motivation der unter Leitung des Bildungsbüros Herne entstandenen AG „Ideenschmiede Bildung für nachhaltige Entwicklung (BNE)“ im Sozialraum Wanne-Süd. Die sich hier engagierenden Einrichtungen geben an diesem Thementag mit verschiedenen Veranstaltungen Einblick in die einzigartige Sozialraum- und Bildungsarbeit.   Das Programm umfasst: 09:00 – 12:00 Uhr Gemeinsames Frühstück in der Mensa der Grundschule Freiherr-vom-Stein   10:30 – 12:00 Uhr Präsentation zum Thema „Netzwerkarbeit im Quartier zum Wohle aller“   12.15 – 13.15 Uhr Glückstraining für Groß und Klein mit Lesung   13:00 – 13.30 Uhr Meditation zur Mittagspause in St. Joseph   16:00 – 17:00 Uhr Lachyoga in der AWO-Begegnungsstätte   20:00 – 21:00 Uhr Offene Kirche am Abend   Interessierte Bürger:innen aus dem Stadtteil sind zu allen Veranstaltungen herzlich eingeladen!  
URL:https://mitmachen-wanne-sued.de/event/spieletreff-drk-2/2029-04-17
LOCATION:DRK- Geschäftsstelle\, Harkortstr. 29\, Herne\, 44652
CATEGORIES:Aktion von Partnern
END:VEVENT
BEGIN:VEVENT
DTSTART;TZID=Europe/Berlin:20290417T170000
DTEND;TZID=Europe/Berlin:20290417T183000
DTSTAMP:20260421T170055
CREATED:20250626T141656Z
LAST-MODIFIED:20250626T142210Z
UID:10005069-1871139600-1871145000@mitmachen-wanne-sued.de
SUMMARY:STREETKICKERZ GIRLS
DESCRIPTION:Hier geht's zum Programm der 38. Herner Gesundheitswoche\n		\n					\n		\n				\n				\n					\n		\n							\n		\n				\n						\n					\n			\n								\n				\n							Resilienzförderung ist zentrales Anliegen und zugleich Motivation der unter Leitung des Bildungsbüros Herne entstandenen AG „Ideenschmiede Bildung für nachhaltige Entwicklung (BNE)“ im Sozialraum Wanne-Süd. Die sich hier engagierenden Einrichtungen geben an diesem Thementag mit verschiedenen Veranstaltungen Einblick in die einzigartige Sozialraum- und Bildungsarbeit.   Das Programm umfasst: 09:00 – 12:00 Uhr Gemeinsames Frühstück in der Mensa der Grundschule Freiherr-vom-Stein   10:30 – 12:00 Uhr Präsentation zum Thema „Netzwerkarbeit im Quartier zum Wohle aller“   12.15 – 13.15 Uhr Glückstraining für Groß und Klein mit Lesung   13:00 – 13.30 Uhr Meditation zur Mittagspause in St. Joseph   16:00 – 17:00 Uhr Lachyoga in der AWO-Begegnungsstätte   20:00 – 21:00 Uhr Offene Kirche am Abend   Interessierte Bürger:innen aus dem Stadtteil sind zu allen Veranstaltungen herzlich eingeladen!  
URL:https://mitmachen-wanne-sued.de/event/streetkickerz-girls/2029-04-17
LOCATION:Bolzplatz im Dorneburger Park\, Bobenfeld / Am Böckenbusch\, Herne\, 44652\, Germany
ATTACH;FMTTYPE=image/jpeg:https://mitmachen-wanne-sued.de/wp-content/uploads/2025/06/IMG-20240924-WA0001.jpg
END:VEVENT
BEGIN:VEVENT
DTSTART;TZID=Europe/Berlin:20290419T180000
DTEND;TZID=Europe/Berlin:20290419T200000
DTSTAMP:20260421T170055
CREATED:20250327T134610Z
LAST-MODIFIED:20250327T134611Z
UID:10004659-1871316000-1871323200@mitmachen-wanne-sued.de
SUMMARY:E-Sport Training- DSC Wanne-Eickel Handball e.V.
DESCRIPTION:Hier geht's zum Programm der 38. Herner Gesundheitswoche\n		\n					\n		\n				\n				\n					\n		\n							\n		\n				\n						\n					\n			\n								\n				\n							Resilienzförderung ist zentrales Anliegen und zugleich Motivation der unter Leitung des Bildungsbüros Herne entstandenen AG „Ideenschmiede Bildung für nachhaltige Entwicklung (BNE)“ im Sozialraum Wanne-Süd. Die sich hier engagierenden Einrichtungen geben an diesem Thementag mit verschiedenen Veranstaltungen Einblick in die einzigartige Sozialraum- und Bildungsarbeit.   Das Programm umfasst: 09:00 – 12:00 Uhr Gemeinsames Frühstück in der Mensa der Grundschule Freiherr-vom-Stein   10:30 – 12:00 Uhr Präsentation zum Thema „Netzwerkarbeit im Quartier zum Wohle aller“   12.15 – 13.15 Uhr Glückstraining für Groß und Klein mit Lesung   13:00 – 13.30 Uhr Meditation zur Mittagspause in St. Joseph   16:00 – 17:00 Uhr Lachyoga in der AWO-Begegnungsstätte   20:00 – 21:00 Uhr Offene Kirche am Abend   Interessierte Bürger:innen aus dem Stadtteil sind zu allen Veranstaltungen herzlich eingeladen!  
URL:https://mitmachen-wanne-sued.de/event/e-sport-training-dsc-wanne-eickel-handball-e-v-2/2029-04-19
LOCATION:E-Sport Zentrum GG Open Lobby\, Hauptstraße 240\, Herne\, 44649
CATEGORIES:Aktion von Partnern
ATTACH;FMTTYPE=image/png:https://mitmachen-wanne-sued.de/wp-content/uploads/2023/10/cropped-Logo_DSC-E-Sport-1-1.png
ORGANIZER;CN="DSC Wanne-Eickel Handball e.V.":MAILTO:info@dsc-e-sport.de
END:VEVENT
BEGIN:VEVENT
DTSTART;TZID=Europe/Berlin:20290424T100000
DTEND;TZID=Europe/Berlin:20290424T130000
DTSTAMP:20260421T170055
CREATED:20250213T152854Z
LAST-MODIFIED:20250213T152854Z
UID:10004562-1871719200-1871730000@mitmachen-wanne-sued.de
SUMMARY:Gemeinsamer Brunch im Blickwechsel 1a
DESCRIPTION:Hier geht's zum Programm der 38. Herner Gesundheitswoche\n		\n					\n		\n				\n				\n					\n		\n							\n		\n				\n						\n					\n			\n								\n				\n							Resilienzförderung ist zentrales Anliegen und zugleich Motivation der unter Leitung des Bildungsbüros Herne entstandenen AG „Ideenschmiede Bildung für nachhaltige Entwicklung (BNE)“ im Sozialraum Wanne-Süd. Die sich hier engagierenden Einrichtungen geben an diesem Thementag mit verschiedenen Veranstaltungen Einblick in die einzigartige Sozialraum- und Bildungsarbeit.   Das Programm umfasst: 09:00 – 12:00 Uhr Gemeinsames Frühstück in der Mensa der Grundschule Freiherr-vom-Stein   10:30 – 12:00 Uhr Präsentation zum Thema „Netzwerkarbeit im Quartier zum Wohle aller“   12.15 – 13.15 Uhr Glückstraining für Groß und Klein mit Lesung   13:00 – 13.30 Uhr Meditation zur Mittagspause in St. Joseph   16:00 – 17:00 Uhr Lachyoga in der AWO-Begegnungsstätte   20:00 – 21:00 Uhr Offene Kirche am Abend   Interessierte Bürger:innen aus dem Stadtteil sind zu allen Veranstaltungen herzlich eingeladen!  
URL:https://mitmachen-wanne-sued.de/event/gemeinsamer-brunch-im-blickwechsel-1a/2029-04-24
LOCATION:Blickwechsel 1a\, Im Sportpark 1a\, Herne\, Nordrhein-Westfalen\, 44652\, Germany
CATEGORIES:Aktion von Partnern
ATTACH;FMTTYPE=image/png:https://mitmachen-wanne-sued.de/wp-content/uploads/2025/02/Screenshot-2025-02-13-at-16-19-42--e1739460142278.png
END:VEVENT
BEGIN:VEVENT
DTSTART;TZID=Europe/Berlin:20290424T103000
DTEND;TZID=Europe/Berlin:20290424T123000
DTSTAMP:20260421T170055
CREATED:20250903T115406Z
LAST-MODIFIED:20250903T115407Z
UID:10005439-1871721000-1871728200@mitmachen-wanne-sued.de
SUMMARY:Spieletreff - DRK
DESCRIPTION:Hier geht's zum Programm der 38. Herner Gesundheitswoche\n		\n					\n		\n				\n				\n					\n		\n							\n		\n				\n						\n					\n			\n								\n				\n							Resilienzförderung ist zentrales Anliegen und zugleich Motivation der unter Leitung des Bildungsbüros Herne entstandenen AG „Ideenschmiede Bildung für nachhaltige Entwicklung (BNE)“ im Sozialraum Wanne-Süd. Die sich hier engagierenden Einrichtungen geben an diesem Thementag mit verschiedenen Veranstaltungen Einblick in die einzigartige Sozialraum- und Bildungsarbeit.   Das Programm umfasst: 09:00 – 12:00 Uhr Gemeinsames Frühstück in der Mensa der Grundschule Freiherr-vom-Stein   10:30 – 12:00 Uhr Präsentation zum Thema „Netzwerkarbeit im Quartier zum Wohle aller“   12.15 – 13.15 Uhr Glückstraining für Groß und Klein mit Lesung   13:00 – 13.30 Uhr Meditation zur Mittagspause in St. Joseph   16:00 – 17:00 Uhr Lachyoga in der AWO-Begegnungsstätte   20:00 – 21:00 Uhr Offene Kirche am Abend   Interessierte Bürger:innen aus dem Stadtteil sind zu allen Veranstaltungen herzlich eingeladen!  
URL:https://mitmachen-wanne-sued.de/event/spieletreff-drk-2/2029-04-24
LOCATION:DRK- Geschäftsstelle\, Harkortstr. 29\, Herne\, 44652
CATEGORIES:Aktion von Partnern
END:VEVENT
BEGIN:VEVENT
DTSTART;TZID=Europe/Berlin:20290424T170000
DTEND;TZID=Europe/Berlin:20290424T183000
DTSTAMP:20260421T170055
CREATED:20250626T141656Z
LAST-MODIFIED:20250626T142210Z
UID:10005070-1871744400-1871749800@mitmachen-wanne-sued.de
SUMMARY:STREETKICKERZ GIRLS
DESCRIPTION:Hier geht's zum Programm der 38. Herner Gesundheitswoche\n		\n					\n		\n				\n				\n					\n		\n							\n		\n				\n						\n					\n			\n								\n				\n							Resilienzförderung ist zentrales Anliegen und zugleich Motivation der unter Leitung des Bildungsbüros Herne entstandenen AG „Ideenschmiede Bildung für nachhaltige Entwicklung (BNE)“ im Sozialraum Wanne-Süd. Die sich hier engagierenden Einrichtungen geben an diesem Thementag mit verschiedenen Veranstaltungen Einblick in die einzigartige Sozialraum- und Bildungsarbeit.   Das Programm umfasst: 09:00 – 12:00 Uhr Gemeinsames Frühstück in der Mensa der Grundschule Freiherr-vom-Stein   10:30 – 12:00 Uhr Präsentation zum Thema „Netzwerkarbeit im Quartier zum Wohle aller“   12.15 – 13.15 Uhr Glückstraining für Groß und Klein mit Lesung   13:00 – 13.30 Uhr Meditation zur Mittagspause in St. Joseph   16:00 – 17:00 Uhr Lachyoga in der AWO-Begegnungsstätte   20:00 – 21:00 Uhr Offene Kirche am Abend   Interessierte Bürger:innen aus dem Stadtteil sind zu allen Veranstaltungen herzlich eingeladen!  
URL:https://mitmachen-wanne-sued.de/event/streetkickerz-girls/2029-04-24
LOCATION:Bolzplatz im Dorneburger Park\, Bobenfeld / Am Böckenbusch\, Herne\, 44652\, Germany
ATTACH;FMTTYPE=image/jpeg:https://mitmachen-wanne-sued.de/wp-content/uploads/2025/06/IMG-20240924-WA0001.jpg
END:VEVENT
BEGIN:VEVENT
DTSTART;TZID=Europe/Berlin:20290425T170000
DTEND;TZID=Europe/Berlin:20290425T190000
DTSTAMP:20260421T170055
CREATED:20260108T122609Z
LAST-MODIFIED:20260108T122610Z
UID:10004427-1871830800-1871838000@mitmachen-wanne-sued.de
SUMMARY:Offener Stadtteiltreff
DESCRIPTION:Hier geht's zum Programm der 38. Herner Gesundheitswoche\n		\n					\n		\n				\n				\n					\n		\n							\n		\n				\n						\n					\n			\n								\n				\n							Resilienzförderung ist zentrales Anliegen und zugleich Motivation der unter Leitung des Bildungsbüros Herne entstandenen AG „Ideenschmiede Bildung für nachhaltige Entwicklung (BNE)“ im Sozialraum Wanne-Süd. Die sich hier engagierenden Einrichtungen geben an diesem Thementag mit verschiedenen Veranstaltungen Einblick in die einzigartige Sozialraum- und Bildungsarbeit.   Das Programm umfasst: 09:00 – 12:00 Uhr Gemeinsames Frühstück in der Mensa der Grundschule Freiherr-vom-Stein   10:30 – 12:00 Uhr Präsentation zum Thema „Netzwerkarbeit im Quartier zum Wohle aller“   12.15 – 13.15 Uhr Glückstraining für Groß und Klein mit Lesung   13:00 – 13.30 Uhr Meditation zur Mittagspause in St. Joseph   16:00 – 17:00 Uhr Lachyoga in der AWO-Begegnungsstätte   20:00 – 21:00 Uhr Offene Kirche am Abend   Interessierte Bürger:innen aus dem Stadtteil sind zu allen Veranstaltungen herzlich eingeladen!  
URL:https://mitmachen-wanne-sued.de/event/offener-stadtteiltreff-4-2-2-2/2029-04-25
LOCATION:AWO-Begegungsstätte: Im Sportpark 5\, 44652 Herne\, Im Sportpark 5\, Herne\, 44652
CATEGORIES:Offener Stadtteiltreff
ORGANIZER;CN="Stadtteilb%C3%BCro Wanne-S%C3%BCd":MAILTO:mitmachen@wanne-sued.de
END:VEVENT
BEGIN:VEVENT
DTSTART;TZID=Europe/Berlin:20290426T180000
DTEND;TZID=Europe/Berlin:20290426T200000
DTSTAMP:20260421T170055
CREATED:20250327T134610Z
LAST-MODIFIED:20250327T134611Z
UID:10004660-1871920800-1871928000@mitmachen-wanne-sued.de
SUMMARY:E-Sport Training- DSC Wanne-Eickel Handball e.V.
DESCRIPTION:Hier geht's zum Programm der 38. Herner Gesundheitswoche\n		\n					\n		\n				\n				\n					\n		\n							\n		\n				\n						\n					\n			\n								\n				\n							Resilienzförderung ist zentrales Anliegen und zugleich Motivation der unter Leitung des Bildungsbüros Herne entstandenen AG „Ideenschmiede Bildung für nachhaltige Entwicklung (BNE)“ im Sozialraum Wanne-Süd. Die sich hier engagierenden Einrichtungen geben an diesem Thementag mit verschiedenen Veranstaltungen Einblick in die einzigartige Sozialraum- und Bildungsarbeit.   Das Programm umfasst: 09:00 – 12:00 Uhr Gemeinsames Frühstück in der Mensa der Grundschule Freiherr-vom-Stein   10:30 – 12:00 Uhr Präsentation zum Thema „Netzwerkarbeit im Quartier zum Wohle aller“   12.15 – 13.15 Uhr Glückstraining für Groß und Klein mit Lesung   13:00 – 13.30 Uhr Meditation zur Mittagspause in St. Joseph   16:00 – 17:00 Uhr Lachyoga in der AWO-Begegnungsstätte   20:00 – 21:00 Uhr Offene Kirche am Abend   Interessierte Bürger:innen aus dem Stadtteil sind zu allen Veranstaltungen herzlich eingeladen!  
URL:https://mitmachen-wanne-sued.de/event/e-sport-training-dsc-wanne-eickel-handball-e-v-2/2029-04-26
LOCATION:E-Sport Zentrum GG Open Lobby\, Hauptstraße 240\, Herne\, 44649
CATEGORIES:Aktion von Partnern
ATTACH;FMTTYPE=image/png:https://mitmachen-wanne-sued.de/wp-content/uploads/2023/10/cropped-Logo_DSC-E-Sport-1-1.png
ORGANIZER;CN="DSC Wanne-Eickel Handball e.V.":MAILTO:info@dsc-e-sport.de
END:VEVENT
BEGIN:VEVENT
DTSTART;TZID=Europe/Berlin:20290428T110000
DTEND;TZID=Europe/Berlin:20290428T123000
DTSTAMP:20260421T170055
CREATED:20251123T172708Z
LAST-MODIFIED:20251123T172756Z
UID:10005235-1872068400-1872073800@mitmachen-wanne-sued.de
SUMMARY:"Wanne-Süd gemeinsam" - Clean Up
DESCRIPTION:Hier geht's zum Programm der 38. Herner Gesundheitswoche\n		\n					\n		\n				\n				\n					\n		\n							\n		\n				\n						\n					\n			\n								\n				\n							Resilienzförderung ist zentrales Anliegen und zugleich Motivation der unter Leitung des Bildungsbüros Herne entstandenen AG „Ideenschmiede Bildung für nachhaltige Entwicklung (BNE)“ im Sozialraum Wanne-Süd. Die sich hier engagierenden Einrichtungen geben an diesem Thementag mit verschiedenen Veranstaltungen Einblick in die einzigartige Sozialraum- und Bildungsarbeit.   Das Programm umfasst: 09:00 – 12:00 Uhr Gemeinsames Frühstück in der Mensa der Grundschule Freiherr-vom-Stein   10:30 – 12:00 Uhr Präsentation zum Thema „Netzwerkarbeit im Quartier zum Wohle aller“   12.15 – 13.15 Uhr Glückstraining für Groß und Klein mit Lesung   13:00 – 13.30 Uhr Meditation zur Mittagspause in St. Joseph   16:00 – 17:00 Uhr Lachyoga in der AWO-Begegnungsstätte   20:00 – 21:00 Uhr Offene Kirche am Abend   Interessierte Bürger:innen aus dem Stadtteil sind zu allen Veranstaltungen herzlich eingeladen!  
URL:https://mitmachen-wanne-sued.de/event/wanne-sued-gemeinsam-clean-up-3-2-2-2/2029-04-28
LOCATION:Steinplatz\, Steinplatz 1\, Herne\, 44652\, Germany
CATEGORIES:Aufräumaktion
ATTACH;FMTTYPE=image/jpeg:https://mitmachen-wanne-sued.de/wp-content/uploads/2025/01/0001-e1750948970625.jpg
END:VEVENT
END:VCALENDAR