BEGIN:VCALENDAR
VERSION:2.0
PRODID:-//mitmachen-wanne-sued - ECPv6.3.0//NONSGML v1.0//EN
CALSCALE:GREGORIAN
METHOD:PUBLISH
X-ORIGINAL-URL:https://mitmachen-wanne-sued.de
X-WR-CALDESC:Veranstaltungen für mitmachen-wanne-sued
REFRESH-INTERVAL;VALUE=DURATION:PT1H
X-Robots-Tag:noindex
X-PUBLISHED-TTL:PT1H
BEGIN:VTIMEZONE
TZID:Europe/Berlin
BEGIN:DAYLIGHT
TZOFFSETFROM:+0100
TZOFFSETTO:+0200
TZNAME:CEST
DTSTART:20280326T010000
END:DAYLIGHT
BEGIN:STANDARD
TZOFFSETFROM:+0200
TZOFFSETTO:+0100
TZNAME:CET
DTSTART:20281029T010000
END:STANDARD
END:VTIMEZONE
BEGIN:VEVENT
DTSTART;TZID=Europe/Berlin:20280516T190000
DTEND;TZID=Europe/Berlin:20280516T200000
DTSTAMP:20260423T174415
CREATED:20231026T142545Z
LAST-MODIFIED:20231026T142725Z
UID:10004163-1842116400-1842120000@mitmachen-wanne-sued.de
SUMMARY:Faszinierend: Liebscher und Bracht Faszienrolle- und Dehngruppe - Nicole Schwerdt
DESCRIPTION:Als zertifizierte Liebscher & Bracht Schmerzspezialistin unterstützt Frau Nicole Schwerdt Sie mit einem für Sie persönlich ausgearbeitetn Programm zur Schmerzlinderung. Mit einer mobilien Liege macht sie ich Hausbesuche und kommt auch gern zu Ihnen. \nDienstags von 19 bis 20 Uhr bietet sie eine Liebscher & Bracht Faszienroll- und Dehngruppe an. \nOrt: AWO Begegnungsstätte\, Im Sportpark 5\, 44652 Herne Wanne-Eickel \nKommen Sie gern dazu. \nKosten: 9\,99€ pro Stunde; 10er- Karte 88€ \n***die IFAK e.V. übernimmt keine Haftung für die Aktualität dieser Information***
URL:https://mitmachen-wanne-sued.de/event/faszinierend-liebscher-und-bracht-faszienrolle-und-dehngruppe-nicole-schwerdt/2028-05-16
LOCATION:AWO-Begegungsstätte: Im Sportpark 5\, 44652 Herne\, Im Sportpark 5\, Herne\, 44652
ORGANIZER;CN="Nicole Schwerdt":MAILTO:mail(at)glueck-auf-coach.de
END:VEVENT
BEGIN:VEVENT
DTSTART;TZID=Europe/Berlin:20280518T100000
DTEND;TZID=Europe/Berlin:20280518T113000
DTSTAMP:20260423T174415
CREATED:20231026T115256Z
LAST-MODIFIED:20231026T115411Z
UID:10001809-1842256800-1842262200@mitmachen-wanne-sued.de
SUMMARY:Gedächtnistraining- DRK
DESCRIPTION:Das DRK Quartiersbüro lädt alle Interessierten Bürger und Bürgerinnen zum Gehirnjogging ein. \nWir treffen uns jeden Donnerstag von 10:00-11:30 Uhr in der AWO Begegnungsstätte\, Am Sportpark 5 \nWer Lust hat\, seine grauen Zellen zu trainieren ist herzlich eingeladen! \nKostenfrei \nAnsprechpartnerin: Fr. P. Urban 02325-969-1526  \nHalloHerne Artikel: https://www.halloherne.de/artikel/fit-im-kopf-gedchtnistraining-65104 \n 
URL:https://mitmachen-wanne-sued.de/event/gedaechtnistraining-drk-2/2028-05-18
LOCATION:AWO-Begegungsstätte: Im Sportpark 5\, 44652 Herne\, Im Sportpark 5\, Herne\, 44652
END:VEVENT
BEGIN:VEVENT
DTSTART;TZID=Europe/Berlin:20280518T140000
DTEND;TZID=Europe/Berlin:20280518T160000
DTSTAMP:20260423T174415
CREATED:20231025T090935Z
LAST-MODIFIED:20231025T091056Z
UID:10001026-1842271200-1842278400@mitmachen-wanne-sued.de
SUMMARY:Nähkurs für Senioren*innen - Städtische Seniorenberatung
DESCRIPTION:Die Städtische Seniorenberatung bietet jeden Donnerstag von 14 – 16 Uhr einen Nähkurs für Senior*innen an. \nAnmeldung: Städt. Seniorenberatung\,\nTel. 02323/ 163081
URL:https://mitmachen-wanne-sued.de/event/naehkurs-fuer-senioreninnen-staedtische-seniorenberatung/2028-05-18
LOCATION:AWO-Begegungsstätte: Im Sportpark 5\, 44652 Herne\, Im Sportpark 5\, Herne\, 44652
END:VEVENT
BEGIN:VEVENT
DTSTART;TZID=Europe/Berlin:20280522T150000
DTEND;TZID=Europe/Berlin:20280522T170000
DTSTAMP:20260423T174415
CREATED:20231024T143821Z
LAST-MODIFIED:20231026T152447Z
UID:10000197-1842620400-1842627600@mitmachen-wanne-sued.de
SUMMARY:Digital Café - Senior*innen sicher im Netz- AWO
DESCRIPTION:Die AWO veranstaltet jeden 2. und 4. Montag von 15:00 bis 17:00 Uhr in Zusammenarbeit mit dem Senioren-\nInternetc@fé Herne e.V. ein Digital- Café. \nDie Teilnahme ist kostenfrei. \nIn geselliger Runde bei Kaffee oder Tee dreht sich alles um das Thema Digitalisierung – Handy\, Smartphone\, Tablet\, Computer\, Internet und alle Fragen\, die sich damit ergeben. \nSie bringen Ihre Fragen mit\, z.B.:\n• Fotografieren und Fotos versenden\n• What´s App\n• Soziale Medien\n• Tageszeitung Digital\n• Termine online buchen\n• QR-Codes scannen\n• App´s – was ist das?\n• Und vieles mehr \nPlakat – Digital Café – ohne Start AWO \nFür weiterführende Kurse beim Senioren-Internetc@fe: https://www.internetcafe-herne.de/
URL:https://mitmachen-wanne-sued.de/event/digital-cafe-seniorinnen-sicher-im-netz-2/2028-05-22
LOCATION:AWO-Begegungsstätte: Im Sportpark 5\, 44652 Herne\, Im Sportpark 5\, Herne\, 44652
ORGANIZER;CN="AWO Unterbezirk Ruhr-Mitte":MAILTO:herne@awo-ruhr-mitte.de
END:VEVENT
BEGIN:VEVENT
DTSTART;TZID=Europe/Berlin:20280523T190000
DTEND;TZID=Europe/Berlin:20280523T200000
DTSTAMP:20260423T174415
CREATED:20231026T142545Z
LAST-MODIFIED:20231026T142725Z
UID:10004164-1842721200-1842724800@mitmachen-wanne-sued.de
SUMMARY:Faszinierend: Liebscher und Bracht Faszienrolle- und Dehngruppe - Nicole Schwerdt
DESCRIPTION:Als zertifizierte Liebscher & Bracht Schmerzspezialistin unterstützt Frau Nicole Schwerdt Sie mit einem für Sie persönlich ausgearbeitetn Programm zur Schmerzlinderung. Mit einer mobilien Liege macht sie ich Hausbesuche und kommt auch gern zu Ihnen. \nDienstags von 19 bis 20 Uhr bietet sie eine Liebscher & Bracht Faszienroll- und Dehngruppe an. \nOrt: AWO Begegnungsstätte\, Im Sportpark 5\, 44652 Herne Wanne-Eickel \nKommen Sie gern dazu. \nKosten: 9\,99€ pro Stunde; 10er- Karte 88€ \n***die IFAK e.V. übernimmt keine Haftung für die Aktualität dieser Information***
URL:https://mitmachen-wanne-sued.de/event/faszinierend-liebscher-und-bracht-faszienrolle-und-dehngruppe-nicole-schwerdt/2028-05-23
LOCATION:AWO-Begegungsstätte: Im Sportpark 5\, 44652 Herne\, Im Sportpark 5\, Herne\, 44652
ORGANIZER;CN="Nicole Schwerdt":MAILTO:mail(at)glueck-auf-coach.de
END:VEVENT
BEGIN:VEVENT
DTSTART;TZID=Europe/Berlin:20280524T170000
DTEND;TZID=Europe/Berlin:20280524T190000
DTSTAMP:20260423T174415
CREATED:20260108T122609Z
LAST-MODIFIED:20260108T122610Z
UID:10004416-1842800400-1842807600@mitmachen-wanne-sued.de
SUMMARY:Offener Stadtteiltreff
DESCRIPTION:
URL:https://mitmachen-wanne-sued.de/event/offener-stadtteiltreff-4-2-2-2/2028-05-24
LOCATION:AWO-Begegungsstätte: Im Sportpark 5\, 44652 Herne\, Im Sportpark 5\, Herne\, 44652
CATEGORIES:Offener Stadtteiltreff
ORGANIZER;CN="Stadtteilb%C3%BCro Wanne-S%C3%BCd":MAILTO:mitmachen@wanne-sued.de
END:VEVENT
BEGIN:VEVENT
DTSTART;TZID=Europe/Berlin:20280525T100000
DTEND;TZID=Europe/Berlin:20280525T113000
DTSTAMP:20260423T174415
CREATED:20231026T115256Z
LAST-MODIFIED:20231026T115411Z
UID:10001810-1842861600-1842867000@mitmachen-wanne-sued.de
SUMMARY:Gedächtnistraining- DRK
DESCRIPTION:Das DRK Quartiersbüro lädt alle Interessierten Bürger und Bürgerinnen zum Gehirnjogging ein. \nWir treffen uns jeden Donnerstag von 10:00-11:30 Uhr in der AWO Begegnungsstätte\, Am Sportpark 5 \nWer Lust hat\, seine grauen Zellen zu trainieren ist herzlich eingeladen! \nKostenfrei \nAnsprechpartnerin: Fr. P. Urban 02325-969-1526  \nHalloHerne Artikel: https://www.halloherne.de/artikel/fit-im-kopf-gedchtnistraining-65104 \n 
URL:https://mitmachen-wanne-sued.de/event/gedaechtnistraining-drk-2/2028-05-25
LOCATION:AWO-Begegungsstätte: Im Sportpark 5\, 44652 Herne\, Im Sportpark 5\, Herne\, 44652
END:VEVENT
BEGIN:VEVENT
DTSTART;TZID=Europe/Berlin:20280525T140000
DTEND;TZID=Europe/Berlin:20280525T160000
DTSTAMP:20260423T174415
CREATED:20231025T090935Z
LAST-MODIFIED:20231025T091056Z
UID:10001027-1842876000-1842883200@mitmachen-wanne-sued.de
SUMMARY:Nähkurs für Senioren*innen - Städtische Seniorenberatung
DESCRIPTION:Die Städtische Seniorenberatung bietet jeden Donnerstag von 14 – 16 Uhr einen Nähkurs für Senior*innen an. \nAnmeldung: Städt. Seniorenberatung\,\nTel. 02323/ 163081
URL:https://mitmachen-wanne-sued.de/event/naehkurs-fuer-senioreninnen-staedtische-seniorenberatung/2028-05-25
LOCATION:AWO-Begegungsstätte: Im Sportpark 5\, 44652 Herne\, Im Sportpark 5\, Herne\, 44652
END:VEVENT
BEGIN:VEVENT
DTSTART;TZID=Europe/Berlin:20280530T190000
DTEND;TZID=Europe/Berlin:20280530T200000
DTSTAMP:20260423T174415
CREATED:20231026T142545Z
LAST-MODIFIED:20231026T142725Z
UID:10004165-1843326000-1843329600@mitmachen-wanne-sued.de
SUMMARY:Faszinierend: Liebscher und Bracht Faszienrolle- und Dehngruppe - Nicole Schwerdt
DESCRIPTION:Als zertifizierte Liebscher & Bracht Schmerzspezialistin unterstützt Frau Nicole Schwerdt Sie mit einem für Sie persönlich ausgearbeitetn Programm zur Schmerzlinderung. Mit einer mobilien Liege macht sie ich Hausbesuche und kommt auch gern zu Ihnen. \nDienstags von 19 bis 20 Uhr bietet sie eine Liebscher & Bracht Faszienroll- und Dehngruppe an. \nOrt: AWO Begegnungsstätte\, Im Sportpark 5\, 44652 Herne Wanne-Eickel \nKommen Sie gern dazu. \nKosten: 9\,99€ pro Stunde; 10er- Karte 88€ \n***die IFAK e.V. übernimmt keine Haftung für die Aktualität dieser Information***
URL:https://mitmachen-wanne-sued.de/event/faszinierend-liebscher-und-bracht-faszienrolle-und-dehngruppe-nicole-schwerdt/2028-05-30
LOCATION:AWO-Begegungsstätte: Im Sportpark 5\, 44652 Herne\, Im Sportpark 5\, Herne\, 44652
ORGANIZER;CN="Nicole Schwerdt":MAILTO:mail(at)glueck-auf-coach.de
END:VEVENT
BEGIN:VEVENT
DTSTART;TZID=Europe/Berlin:20280601T100000
DTEND;TZID=Europe/Berlin:20280601T113000
DTSTAMP:20260423T174415
CREATED:20231026T115256Z
LAST-MODIFIED:20231026T115411Z
UID:10001811-1843466400-1843471800@mitmachen-wanne-sued.de
SUMMARY:Gedächtnistraining- DRK
DESCRIPTION:Das DRK Quartiersbüro lädt alle Interessierten Bürger und Bürgerinnen zum Gehirnjogging ein. \nWir treffen uns jeden Donnerstag von 10:00-11:30 Uhr in der AWO Begegnungsstätte\, Am Sportpark 5 \nWer Lust hat\, seine grauen Zellen zu trainieren ist herzlich eingeladen! \nKostenfrei \nAnsprechpartnerin: Fr. P. Urban 02325-969-1526  \nHalloHerne Artikel: https://www.halloherne.de/artikel/fit-im-kopf-gedchtnistraining-65104 \n 
URL:https://mitmachen-wanne-sued.de/event/gedaechtnistraining-drk-2/2028-06-01
LOCATION:AWO-Begegungsstätte: Im Sportpark 5\, 44652 Herne\, Im Sportpark 5\, Herne\, 44652
END:VEVENT
BEGIN:VEVENT
DTSTART;TZID=Europe/Berlin:20280601T140000
DTEND;TZID=Europe/Berlin:20280601T160000
DTSTAMP:20260423T174415
CREATED:20231025T090935Z
LAST-MODIFIED:20231025T091056Z
UID:10001028-1843480800-1843488000@mitmachen-wanne-sued.de
SUMMARY:Nähkurs für Senioren*innen - Städtische Seniorenberatung
DESCRIPTION:Die Städtische Seniorenberatung bietet jeden Donnerstag von 14 – 16 Uhr einen Nähkurs für Senior*innen an. \nAnmeldung: Städt. Seniorenberatung\,\nTel. 02323/ 163081
URL:https://mitmachen-wanne-sued.de/event/naehkurs-fuer-senioreninnen-staedtische-seniorenberatung/2028-06-01
LOCATION:AWO-Begegungsstätte: Im Sportpark 5\, 44652 Herne\, Im Sportpark 5\, Herne\, 44652
END:VEVENT
BEGIN:VEVENT
DTSTART;TZID=Europe/Berlin:20280606T190000
DTEND;TZID=Europe/Berlin:20280606T200000
DTSTAMP:20260423T174415
CREATED:20231026T142545Z
LAST-MODIFIED:20231026T142725Z
UID:10004166-1843930800-1843934400@mitmachen-wanne-sued.de
SUMMARY:Faszinierend: Liebscher und Bracht Faszienrolle- und Dehngruppe - Nicole Schwerdt
DESCRIPTION:Als zertifizierte Liebscher & Bracht Schmerzspezialistin unterstützt Frau Nicole Schwerdt Sie mit einem für Sie persönlich ausgearbeitetn Programm zur Schmerzlinderung. Mit einer mobilien Liege macht sie ich Hausbesuche und kommt auch gern zu Ihnen. \nDienstags von 19 bis 20 Uhr bietet sie eine Liebscher & Bracht Faszienroll- und Dehngruppe an. \nOrt: AWO Begegnungsstätte\, Im Sportpark 5\, 44652 Herne Wanne-Eickel \nKommen Sie gern dazu. \nKosten: 9\,99€ pro Stunde; 10er- Karte 88€ \n***die IFAK e.V. übernimmt keine Haftung für die Aktualität dieser Information***
URL:https://mitmachen-wanne-sued.de/event/faszinierend-liebscher-und-bracht-faszienrolle-und-dehngruppe-nicole-schwerdt/2028-06-06
LOCATION:AWO-Begegungsstätte: Im Sportpark 5\, 44652 Herne\, Im Sportpark 5\, Herne\, 44652
ORGANIZER;CN="Nicole Schwerdt":MAILTO:mail(at)glueck-auf-coach.de
END:VEVENT
BEGIN:VEVENT
DTSTART;TZID=Europe/Berlin:20280608T100000
DTEND;TZID=Europe/Berlin:20280608T113000
DTSTAMP:20260423T174415
CREATED:20231026T115256Z
LAST-MODIFIED:20231026T115411Z
UID:10001812-1844071200-1844076600@mitmachen-wanne-sued.de
SUMMARY:Gedächtnistraining- DRK
DESCRIPTION:Das DRK Quartiersbüro lädt alle Interessierten Bürger und Bürgerinnen zum Gehirnjogging ein. \nWir treffen uns jeden Donnerstag von 10:00-11:30 Uhr in der AWO Begegnungsstätte\, Am Sportpark 5 \nWer Lust hat\, seine grauen Zellen zu trainieren ist herzlich eingeladen! \nKostenfrei \nAnsprechpartnerin: Fr. P. Urban 02325-969-1526  \nHalloHerne Artikel: https://www.halloherne.de/artikel/fit-im-kopf-gedchtnistraining-65104 \n 
URL:https://mitmachen-wanne-sued.de/event/gedaechtnistraining-drk-2/2028-06-08
LOCATION:AWO-Begegungsstätte: Im Sportpark 5\, 44652 Herne\, Im Sportpark 5\, Herne\, 44652
END:VEVENT
BEGIN:VEVENT
DTSTART;TZID=Europe/Berlin:20280608T140000
DTEND;TZID=Europe/Berlin:20280608T160000
DTSTAMP:20260423T174415
CREATED:20231025T090935Z
LAST-MODIFIED:20231025T091056Z
UID:10001029-1844085600-1844092800@mitmachen-wanne-sued.de
SUMMARY:Nähkurs für Senioren*innen - Städtische Seniorenberatung
DESCRIPTION:Die Städtische Seniorenberatung bietet jeden Donnerstag von 14 – 16 Uhr einen Nähkurs für Senior*innen an. \nAnmeldung: Städt. Seniorenberatung\,\nTel. 02323/ 163081
URL:https://mitmachen-wanne-sued.de/event/naehkurs-fuer-senioreninnen-staedtische-seniorenberatung/2028-06-08
LOCATION:AWO-Begegungsstätte: Im Sportpark 5\, 44652 Herne\, Im Sportpark 5\, Herne\, 44652
END:VEVENT
BEGIN:VEVENT
DTSTART;TZID=Europe/Berlin:20280609T100000
DTEND;TZID=Europe/Berlin:20280609T120000
DTSTAMP:20260423T174415
CREATED:20260107T121933Z
LAST-MODIFIED:20260108T121555Z
UID:10005629-1844157600-1844164800@mitmachen-wanne-sued.de
SUMMARY:Stadtteilfrühstück in Wanne-Süd
DESCRIPTION:
URL:https://mitmachen-wanne-sued.de/event/stadtteilfruehstueck-in-wanne-sued-2/2028-06-09
LOCATION:AWO-Begegungsstätte: Im Sportpark 5\, 44652 Herne\, Im Sportpark 5\, Herne\, 44652
CATEGORIES:Aktion von Partnern
ORGANIZER;CN="AWO Unterbezirk Ruhr-Mitte":MAILTO:herne@awo-ruhr-mitte.de
END:VEVENT
BEGIN:VEVENT
DTSTART;TZID=Europe/Berlin:20280612T150000
DTEND;TZID=Europe/Berlin:20280612T170000
DTSTAMP:20260423T174415
CREATED:20231024T143746Z
LAST-MODIFIED:20231024T143858Z
UID:10000078-1844434800-1844442000@mitmachen-wanne-sued.de
SUMMARY:Digital Café - Senior*innen sicher im Netz- AWO
DESCRIPTION:Die AWO veranstaltet jeden 2. und 4. Montag von 15:00 bis 17:00 Uhr in Zusammenarbeit mit dem Senioren-\nInternetc@fé Herne e.V. ein Digital- Café. \nDie Teilnahme ist kostenfrei. \nIn geselliger Runde bei Kaffee oder Tee dreht sich alles um das Thema Digitalisierung – Handy\, Smartphone\, Tablet\, Computer\, Internet und alle Fragen\, die sich damit ergeben. \nSie bringen Ihre Fragen mit\, z.B.:\n• Fotografieren und Fotos versenden\n• What´s App\n• Soziale Medien\n• Tageszeitung Digital\n• Termine online buchen\n• QR-Codes scannen\n• App´s – was ist das?\n• Und vieles mehr \nPlakat – Digital Café – ohne Start AWO
URL:https://mitmachen-wanne-sued.de/event/digital-cafe-seniorinnen-sicher-im-netz/2028-06-12
LOCATION:AWO-Begegungsstätte: Im Sportpark 5\, 44652 Herne\, Im Sportpark 5\, Herne\, 44652
ORGANIZER;CN="AWO Unterbezirk Ruhr-Mitte":MAILTO:herne@awo-ruhr-mitte.de
END:VEVENT
BEGIN:VEVENT
DTSTART;TZID=Europe/Berlin:20280613T190000
DTEND;TZID=Europe/Berlin:20280613T200000
DTSTAMP:20260423T174415
CREATED:20231026T142545Z
LAST-MODIFIED:20231026T142725Z
UID:10004167-1844535600-1844539200@mitmachen-wanne-sued.de
SUMMARY:Faszinierend: Liebscher und Bracht Faszienrolle- und Dehngruppe - Nicole Schwerdt
DESCRIPTION:Als zertifizierte Liebscher & Bracht Schmerzspezialistin unterstützt Frau Nicole Schwerdt Sie mit einem für Sie persönlich ausgearbeitetn Programm zur Schmerzlinderung. Mit einer mobilien Liege macht sie ich Hausbesuche und kommt auch gern zu Ihnen. \nDienstags von 19 bis 20 Uhr bietet sie eine Liebscher & Bracht Faszienroll- und Dehngruppe an. \nOrt: AWO Begegnungsstätte\, Im Sportpark 5\, 44652 Herne Wanne-Eickel \nKommen Sie gern dazu. \nKosten: 9\,99€ pro Stunde; 10er- Karte 88€ \n***die IFAK e.V. übernimmt keine Haftung für die Aktualität dieser Information***
URL:https://mitmachen-wanne-sued.de/event/faszinierend-liebscher-und-bracht-faszienrolle-und-dehngruppe-nicole-schwerdt/2028-06-13
LOCATION:AWO-Begegungsstätte: Im Sportpark 5\, 44652 Herne\, Im Sportpark 5\, Herne\, 44652
ORGANIZER;CN="Nicole Schwerdt":MAILTO:mail(at)glueck-auf-coach.de
END:VEVENT
BEGIN:VEVENT
DTSTART;TZID=Europe/Berlin:20280615T100000
DTEND;TZID=Europe/Berlin:20280615T113000
DTSTAMP:20260423T174415
CREATED:20231026T115256Z
LAST-MODIFIED:20231026T115411Z
UID:10001813-1844676000-1844681400@mitmachen-wanne-sued.de
SUMMARY:Gedächtnistraining- DRK
DESCRIPTION:Das DRK Quartiersbüro lädt alle Interessierten Bürger und Bürgerinnen zum Gehirnjogging ein. \nWir treffen uns jeden Donnerstag von 10:00-11:30 Uhr in der AWO Begegnungsstätte\, Am Sportpark 5 \nWer Lust hat\, seine grauen Zellen zu trainieren ist herzlich eingeladen! \nKostenfrei \nAnsprechpartnerin: Fr. P. Urban 02325-969-1526  \nHalloHerne Artikel: https://www.halloherne.de/artikel/fit-im-kopf-gedchtnistraining-65104 \n 
URL:https://mitmachen-wanne-sued.de/event/gedaechtnistraining-drk-2/2028-06-15
LOCATION:AWO-Begegungsstätte: Im Sportpark 5\, 44652 Herne\, Im Sportpark 5\, Herne\, 44652
END:VEVENT
BEGIN:VEVENT
DTSTART;TZID=Europe/Berlin:20280615T140000
DTEND;TZID=Europe/Berlin:20280615T160000
DTSTAMP:20260423T174415
CREATED:20231025T090935Z
LAST-MODIFIED:20231025T091056Z
UID:10001030-1844690400-1844697600@mitmachen-wanne-sued.de
SUMMARY:Nähkurs für Senioren*innen - Städtische Seniorenberatung
DESCRIPTION:Die Städtische Seniorenberatung bietet jeden Donnerstag von 14 – 16 Uhr einen Nähkurs für Senior*innen an. \nAnmeldung: Städt. Seniorenberatung\,\nTel. 02323/ 163081
URL:https://mitmachen-wanne-sued.de/event/naehkurs-fuer-senioreninnen-staedtische-seniorenberatung/2028-06-15
LOCATION:AWO-Begegungsstätte: Im Sportpark 5\, 44652 Herne\, Im Sportpark 5\, Herne\, 44652
END:VEVENT
BEGIN:VEVENT
DTSTART;TZID=Europe/Berlin:20280620T190000
DTEND;TZID=Europe/Berlin:20280620T200000
DTSTAMP:20260423T174415
CREATED:20231026T142545Z
LAST-MODIFIED:20231026T142725Z
UID:10004168-1845140400-1845144000@mitmachen-wanne-sued.de
SUMMARY:Faszinierend: Liebscher und Bracht Faszienrolle- und Dehngruppe - Nicole Schwerdt
DESCRIPTION:Als zertifizierte Liebscher & Bracht Schmerzspezialistin unterstützt Frau Nicole Schwerdt Sie mit einem für Sie persönlich ausgearbeitetn Programm zur Schmerzlinderung. Mit einer mobilien Liege macht sie ich Hausbesuche und kommt auch gern zu Ihnen. \nDienstags von 19 bis 20 Uhr bietet sie eine Liebscher & Bracht Faszienroll- und Dehngruppe an. \nOrt: AWO Begegnungsstätte\, Im Sportpark 5\, 44652 Herne Wanne-Eickel \nKommen Sie gern dazu. \nKosten: 9\,99€ pro Stunde; 10er- Karte 88€ \n***die IFAK e.V. übernimmt keine Haftung für die Aktualität dieser Information***
URL:https://mitmachen-wanne-sued.de/event/faszinierend-liebscher-und-bracht-faszienrolle-und-dehngruppe-nicole-schwerdt/2028-06-20
LOCATION:AWO-Begegungsstätte: Im Sportpark 5\, 44652 Herne\, Im Sportpark 5\, Herne\, 44652
ORGANIZER;CN="Nicole Schwerdt":MAILTO:mail(at)glueck-auf-coach.de
END:VEVENT
BEGIN:VEVENT
DTSTART;TZID=Europe/Berlin:20280622T100000
DTEND;TZID=Europe/Berlin:20280622T113000
DTSTAMP:20260423T174415
CREATED:20231026T115256Z
LAST-MODIFIED:20231026T115411Z
UID:10001814-1845280800-1845286200@mitmachen-wanne-sued.de
SUMMARY:Gedächtnistraining- DRK
DESCRIPTION:Das DRK Quartiersbüro lädt alle Interessierten Bürger und Bürgerinnen zum Gehirnjogging ein. \nWir treffen uns jeden Donnerstag von 10:00-11:30 Uhr in der AWO Begegnungsstätte\, Am Sportpark 5 \nWer Lust hat\, seine grauen Zellen zu trainieren ist herzlich eingeladen! \nKostenfrei \nAnsprechpartnerin: Fr. P. Urban 02325-969-1526  \nHalloHerne Artikel: https://www.halloherne.de/artikel/fit-im-kopf-gedchtnistraining-65104 \n 
URL:https://mitmachen-wanne-sued.de/event/gedaechtnistraining-drk-2/2028-06-22
LOCATION:AWO-Begegungsstätte: Im Sportpark 5\, 44652 Herne\, Im Sportpark 5\, Herne\, 44652
END:VEVENT
BEGIN:VEVENT
DTSTART;TZID=Europe/Berlin:20280622T140000
DTEND;TZID=Europe/Berlin:20280622T160000
DTSTAMP:20260423T174415
CREATED:20231025T090935Z
LAST-MODIFIED:20231025T091056Z
UID:10001031-1845295200-1845302400@mitmachen-wanne-sued.de
SUMMARY:Nähkurs für Senioren*innen - Städtische Seniorenberatung
DESCRIPTION:Die Städtische Seniorenberatung bietet jeden Donnerstag von 14 – 16 Uhr einen Nähkurs für Senior*innen an. \nAnmeldung: Städt. Seniorenberatung\,\nTel. 02323/ 163081
URL:https://mitmachen-wanne-sued.de/event/naehkurs-fuer-senioreninnen-staedtische-seniorenberatung/2028-06-22
LOCATION:AWO-Begegungsstätte: Im Sportpark 5\, 44652 Herne\, Im Sportpark 5\, Herne\, 44652
END:VEVENT
BEGIN:VEVENT
DTSTART;TZID=Europe/Berlin:20280626T150000
DTEND;TZID=Europe/Berlin:20280626T170000
DTSTAMP:20260423T174415
CREATED:20231024T143821Z
LAST-MODIFIED:20231026T152447Z
UID:10000198-1845644400-1845651600@mitmachen-wanne-sued.de
SUMMARY:Digital Café - Senior*innen sicher im Netz- AWO
DESCRIPTION:Die AWO veranstaltet jeden 2. und 4. Montag von 15:00 bis 17:00 Uhr in Zusammenarbeit mit dem Senioren-\nInternetc@fé Herne e.V. ein Digital- Café. \nDie Teilnahme ist kostenfrei. \nIn geselliger Runde bei Kaffee oder Tee dreht sich alles um das Thema Digitalisierung – Handy\, Smartphone\, Tablet\, Computer\, Internet und alle Fragen\, die sich damit ergeben. \nSie bringen Ihre Fragen mit\, z.B.:\n• Fotografieren und Fotos versenden\n• What´s App\n• Soziale Medien\n• Tageszeitung Digital\n• Termine online buchen\n• QR-Codes scannen\n• App´s – was ist das?\n• Und vieles mehr \nPlakat – Digital Café – ohne Start AWO \nFür weiterführende Kurse beim Senioren-Internetc@fe: https://www.internetcafe-herne.de/
URL:https://mitmachen-wanne-sued.de/event/digital-cafe-seniorinnen-sicher-im-netz-2/2028-06-26
LOCATION:AWO-Begegungsstätte: Im Sportpark 5\, 44652 Herne\, Im Sportpark 5\, Herne\, 44652
ORGANIZER;CN="AWO Unterbezirk Ruhr-Mitte":MAILTO:herne@awo-ruhr-mitte.de
END:VEVENT
BEGIN:VEVENT
DTSTART;TZID=Europe/Berlin:20280627T190000
DTEND;TZID=Europe/Berlin:20280627T200000
DTSTAMP:20260423T174415
CREATED:20231026T142545Z
LAST-MODIFIED:20231026T142725Z
UID:10004169-1845745200-1845748800@mitmachen-wanne-sued.de
SUMMARY:Faszinierend: Liebscher und Bracht Faszienrolle- und Dehngruppe - Nicole Schwerdt
DESCRIPTION:Als zertifizierte Liebscher & Bracht Schmerzspezialistin unterstützt Frau Nicole Schwerdt Sie mit einem für Sie persönlich ausgearbeitetn Programm zur Schmerzlinderung. Mit einer mobilien Liege macht sie ich Hausbesuche und kommt auch gern zu Ihnen. \nDienstags von 19 bis 20 Uhr bietet sie eine Liebscher & Bracht Faszienroll- und Dehngruppe an. \nOrt: AWO Begegnungsstätte\, Im Sportpark 5\, 44652 Herne Wanne-Eickel \nKommen Sie gern dazu. \nKosten: 9\,99€ pro Stunde; 10er- Karte 88€ \n***die IFAK e.V. übernimmt keine Haftung für die Aktualität dieser Information***
URL:https://mitmachen-wanne-sued.de/event/faszinierend-liebscher-und-bracht-faszienrolle-und-dehngruppe-nicole-schwerdt/2028-06-27
LOCATION:AWO-Begegungsstätte: Im Sportpark 5\, 44652 Herne\, Im Sportpark 5\, Herne\, 44652
ORGANIZER;CN="Nicole Schwerdt":MAILTO:mail(at)glueck-auf-coach.de
END:VEVENT
BEGIN:VEVENT
DTSTART;TZID=Europe/Berlin:20280628T170000
DTEND;TZID=Europe/Berlin:20280628T190000
DTSTAMP:20260423T174415
CREATED:20260108T122609Z
LAST-MODIFIED:20260108T122610Z
UID:10004417-1845824400-1845831600@mitmachen-wanne-sued.de
SUMMARY:Offener Stadtteiltreff
DESCRIPTION:
URL:https://mitmachen-wanne-sued.de/event/offener-stadtteiltreff-4-2-2-2/2028-06-28
LOCATION:AWO-Begegungsstätte: Im Sportpark 5\, 44652 Herne\, Im Sportpark 5\, Herne\, 44652
CATEGORIES:Offener Stadtteiltreff
ORGANIZER;CN="Stadtteilb%C3%BCro Wanne-S%C3%BCd":MAILTO:mitmachen@wanne-sued.de
END:VEVENT
BEGIN:VEVENT
DTSTART;TZID=Europe/Berlin:20280629T100000
DTEND;TZID=Europe/Berlin:20280629T113000
DTSTAMP:20260423T174415
CREATED:20231026T115256Z
LAST-MODIFIED:20231026T115411Z
UID:10001815-1845885600-1845891000@mitmachen-wanne-sued.de
SUMMARY:Gedächtnistraining- DRK
DESCRIPTION:Das DRK Quartiersbüro lädt alle Interessierten Bürger und Bürgerinnen zum Gehirnjogging ein. \nWir treffen uns jeden Donnerstag von 10:00-11:30 Uhr in der AWO Begegnungsstätte\, Am Sportpark 5 \nWer Lust hat\, seine grauen Zellen zu trainieren ist herzlich eingeladen! \nKostenfrei \nAnsprechpartnerin: Fr. P. Urban 02325-969-1526  \nHalloHerne Artikel: https://www.halloherne.de/artikel/fit-im-kopf-gedchtnistraining-65104 \n 
URL:https://mitmachen-wanne-sued.de/event/gedaechtnistraining-drk-2/2028-06-29
LOCATION:AWO-Begegungsstätte: Im Sportpark 5\, 44652 Herne\, Im Sportpark 5\, Herne\, 44652
END:VEVENT
BEGIN:VEVENT
DTSTART;TZID=Europe/Berlin:20280629T140000
DTEND;TZID=Europe/Berlin:20280629T160000
DTSTAMP:20260423T174415
CREATED:20231025T090935Z
LAST-MODIFIED:20231025T091056Z
UID:10001032-1845900000-1845907200@mitmachen-wanne-sued.de
SUMMARY:Nähkurs für Senioren*innen - Städtische Seniorenberatung
DESCRIPTION:Die Städtische Seniorenberatung bietet jeden Donnerstag von 14 – 16 Uhr einen Nähkurs für Senior*innen an. \nAnmeldung: Städt. Seniorenberatung\,\nTel. 02323/ 163081
URL:https://mitmachen-wanne-sued.de/event/naehkurs-fuer-senioreninnen-staedtische-seniorenberatung/2028-06-29
LOCATION:AWO-Begegungsstätte: Im Sportpark 5\, 44652 Herne\, Im Sportpark 5\, Herne\, 44652
END:VEVENT
BEGIN:VEVENT
DTSTART;TZID=Europe/Berlin:20280704T190000
DTEND;TZID=Europe/Berlin:20280704T200000
DTSTAMP:20260423T174415
CREATED:20231026T142545Z
LAST-MODIFIED:20231026T142725Z
UID:10004170-1846350000-1846353600@mitmachen-wanne-sued.de
SUMMARY:Faszinierend: Liebscher und Bracht Faszienrolle- und Dehngruppe - Nicole Schwerdt
DESCRIPTION:Als zertifizierte Liebscher & Bracht Schmerzspezialistin unterstützt Frau Nicole Schwerdt Sie mit einem für Sie persönlich ausgearbeitetn Programm zur Schmerzlinderung. Mit einer mobilien Liege macht sie ich Hausbesuche und kommt auch gern zu Ihnen. \nDienstags von 19 bis 20 Uhr bietet sie eine Liebscher & Bracht Faszienroll- und Dehngruppe an. \nOrt: AWO Begegnungsstätte\, Im Sportpark 5\, 44652 Herne Wanne-Eickel \nKommen Sie gern dazu. \nKosten: 9\,99€ pro Stunde; 10er- Karte 88€ \n***die IFAK e.V. übernimmt keine Haftung für die Aktualität dieser Information***
URL:https://mitmachen-wanne-sued.de/event/faszinierend-liebscher-und-bracht-faszienrolle-und-dehngruppe-nicole-schwerdt/2028-07-04
LOCATION:AWO-Begegungsstätte: Im Sportpark 5\, 44652 Herne\, Im Sportpark 5\, Herne\, 44652
ORGANIZER;CN="Nicole Schwerdt":MAILTO:mail(at)glueck-auf-coach.de
END:VEVENT
BEGIN:VEVENT
DTSTART;TZID=Europe/Berlin:20280706T100000
DTEND;TZID=Europe/Berlin:20280706T113000
DTSTAMP:20260423T174415
CREATED:20231026T115256Z
LAST-MODIFIED:20231026T115411Z
UID:10001816-1846490400-1846495800@mitmachen-wanne-sued.de
SUMMARY:Gedächtnistraining- DRK
DESCRIPTION:Das DRK Quartiersbüro lädt alle Interessierten Bürger und Bürgerinnen zum Gehirnjogging ein. \nWir treffen uns jeden Donnerstag von 10:00-11:30 Uhr in der AWO Begegnungsstätte\, Am Sportpark 5 \nWer Lust hat\, seine grauen Zellen zu trainieren ist herzlich eingeladen! \nKostenfrei \nAnsprechpartnerin: Fr. P. Urban 02325-969-1526  \nHalloHerne Artikel: https://www.halloherne.de/artikel/fit-im-kopf-gedchtnistraining-65104 \n 
URL:https://mitmachen-wanne-sued.de/event/gedaechtnistraining-drk-2/2028-07-06
LOCATION:AWO-Begegungsstätte: Im Sportpark 5\, 44652 Herne\, Im Sportpark 5\, Herne\, 44652
END:VEVENT
BEGIN:VEVENT
DTSTART;TZID=Europe/Berlin:20280706T140000
DTEND;TZID=Europe/Berlin:20280706T160000
DTSTAMP:20260423T174415
CREATED:20231025T090935Z
LAST-MODIFIED:20231025T091056Z
UID:10001033-1846504800-1846512000@mitmachen-wanne-sued.de
SUMMARY:Nähkurs für Senioren*innen - Städtische Seniorenberatung
DESCRIPTION:Die Städtische Seniorenberatung bietet jeden Donnerstag von 14 – 16 Uhr einen Nähkurs für Senior*innen an. \nAnmeldung: Städt. Seniorenberatung\,\nTel. 02323/ 163081
URL:https://mitmachen-wanne-sued.de/event/naehkurs-fuer-senioreninnen-staedtische-seniorenberatung/2028-07-06
LOCATION:AWO-Begegungsstätte: Im Sportpark 5\, 44652 Herne\, Im Sportpark 5\, Herne\, 44652
END:VEVENT
END:VCALENDAR