BEGIN:VCALENDAR
VERSION:2.0
PRODID:-//mitmachen-wanne-sued - ECPv6.3.0//NONSGML v1.0//EN
CALSCALE:GREGORIAN
METHOD:PUBLISH
X-ORIGINAL-URL:https://mitmachen-wanne-sued.de
X-WR-CALDESC:Veranstaltungen für mitmachen-wanne-sued
REFRESH-INTERVAL;VALUE=DURATION:PT1H
X-Robots-Tag:noindex
X-PUBLISHED-TTL:PT1H
BEGIN:VTIMEZONE
TZID:Europe/Berlin
BEGIN:DAYLIGHT
TZOFFSETFROM:+0100
TZOFFSETTO:+0200
TZNAME:CEST
DTSTART:20230326T010000
END:DAYLIGHT
BEGIN:STANDARD
TZOFFSETFROM:+0200
TZOFFSETTO:+0100
TZNAME:CET
DTSTART:20231029T010000
END:STANDARD
END:VTIMEZONE
BEGIN:VEVENT
DTSTART;TZID=Europe/Berlin:20231211T150000
DTEND;TZID=Europe/Berlin:20231211T170000
DTSTAMP:20260421T215019
CREATED:20231024T143746Z
LAST-MODIFIED:20231024T143858Z
UID:10000024-1702306800-1702314000@mitmachen-wanne-sued.de
SUMMARY:Digital Café - Senior*innen sicher im Netz- AWO
DESCRIPTION:Die AWO veranstaltet jeden 2. und 4. Montag von 15:00 bis 17:00 Uhr in Zusammenarbeit mit dem Senioren-\nInternetc@fé Herne e.V. ein Digital- Café. \nDie Teilnahme ist kostenfrei. \nIn geselliger Runde bei Kaffee oder Tee dreht sich alles um das Thema Digitalisierung – Handy\, Smartphone\, Tablet\, Computer\, Internet und alle Fragen\, die sich damit ergeben. \nSie bringen Ihre Fragen mit\, z.B.:\n• Fotografieren und Fotos versenden\n• What´s App\n• Soziale Medien\n• Tageszeitung Digital\n• Termine online buchen\n• QR-Codes scannen\n• App´s – was ist das?\n• Und vieles mehr \nPlakat – Digital Café – ohne Start AWO
URL:https://mitmachen-wanne-sued.de/event/digital-cafe-seniorinnen-sicher-im-netz/2023-12-11
LOCATION:AWO-Begegungsstätte: Im Sportpark 5\, 44652 Herne\, Im Sportpark 5\, Herne\, 44652
ORGANIZER;CN="AWO Unterbezirk Ruhr-Mitte":MAILTO:herne@awo-ruhr-mitte.de
END:VEVENT
BEGIN:VEVENT
DTSTART;TZID=Europe/Berlin:20231207T140000
DTEND;TZID=Europe/Berlin:20231207T160000
DTSTAMP:20260421T215019
CREATED:20231025T090935Z
LAST-MODIFIED:20231025T091056Z
UID:10000794-1701957600-1701964800@mitmachen-wanne-sued.de
SUMMARY:Nähkurs für Senioren*innen - Städtische Seniorenberatung
DESCRIPTION:Die Städtische Seniorenberatung bietet jeden Donnerstag von 14 – 16 Uhr einen Nähkurs für Senior*innen an. \nAnmeldung: Städt. Seniorenberatung\,\nTel. 02323/ 163081
URL:https://mitmachen-wanne-sued.de/event/naehkurs-fuer-senioreninnen-staedtische-seniorenberatung/2023-12-07
LOCATION:AWO-Begegungsstätte: Im Sportpark 5\, 44652 Herne\, Im Sportpark 5\, Herne\, 44652
END:VEVENT
BEGIN:VEVENT
DTSTART;TZID=Europe/Berlin:20231207T100000
DTEND;TZID=Europe/Berlin:20231207T113000
DTSTAMP:20260421T215019
CREATED:20231026T115256Z
LAST-MODIFIED:20231026T115411Z
UID:10001577-1701943200-1701948600@mitmachen-wanne-sued.de
SUMMARY:Gedächtnistraining- DRK
DESCRIPTION:Das DRK Quartiersbüro lädt alle Interessierten Bürger und Bürgerinnen zum Gehirnjogging ein. \nWir treffen uns jeden Donnerstag von 10:00-11:30 Uhr in der AWO Begegnungsstätte\, Am Sportpark 5 \nWer Lust hat\, seine grauen Zellen zu trainieren ist herzlich eingeladen! \nKostenfrei \nAnsprechpartnerin: Fr. P. Urban 02325-969-1526  \nHalloHerne Artikel: https://www.halloherne.de/artikel/fit-im-kopf-gedchtnistraining-65104 \n 
URL:https://mitmachen-wanne-sued.de/event/gedaechtnistraining-drk-2/2023-12-07
LOCATION:AWO-Begegungsstätte: Im Sportpark 5\, 44652 Herne\, Im Sportpark 5\, Herne\, 44652
END:VEVENT
BEGIN:VEVENT
DTSTART;TZID=Europe/Berlin:20231206T100000
DTEND;TZID=Europe/Berlin:20231206T120000
DTSTAMP:20260421T215019
CREATED:20231130T125858Z
LAST-MODIFIED:20231130T125858Z
UID:10004194-1701856800-1701864000@mitmachen-wanne-sued.de
SUMMARY:Wir backen Weihnachtsplätzchen
DESCRIPTION:Die AWO-Begegnungsstätte im Sportpark 5 verwandelt sich am 6. Dezember von 10:00 Uhr bis 12:00 Uhr in eine Weihnachtsbäckerei! Alle\, die Lust am gemeinsamen Backen haben\, können sich bei Frau Urban vom DRK unter der Telefonnummer 02325/9691526 anmelden.
URL:https://mitmachen-wanne-sued.de/event/wir-backen-weihnachtsplaetzchen
LOCATION:AWO-Begegungsstätte: Im Sportpark 5\, 44652 Herne\, Im Sportpark 5\, Herne\, 44652
END:VEVENT
BEGIN:VEVENT
DTSTART;TZID=Europe/Berlin:20231205T190000
DTEND;TZID=Europe/Berlin:20231205T200000
DTSTAMP:20260421T215019
CREATED:20231026T142545Z
LAST-MODIFIED:20231026T142725Z
UID:10003932-1701802800-1701806400@mitmachen-wanne-sued.de
SUMMARY:Faszinierend: Liebscher und Bracht Faszienrolle- und Dehngruppe - Nicole Schwerdt
DESCRIPTION:Als zertifizierte Liebscher & Bracht Schmerzspezialistin unterstützt Frau Nicole Schwerdt Sie mit einem für Sie persönlich ausgearbeitetn Programm zur Schmerzlinderung. Mit einer mobilien Liege macht sie ich Hausbesuche und kommt auch gern zu Ihnen. \nDienstags von 19 bis 20 Uhr bietet sie eine Liebscher & Bracht Faszienroll- und Dehngruppe an. \nOrt: AWO Begegnungsstätte\, Im Sportpark 5\, 44652 Herne Wanne-Eickel \nKommen Sie gern dazu. \nKosten: 9\,99€ pro Stunde; 10er- Karte 88€ \n***die IFAK e.V. übernimmt keine Haftung für die Aktualität dieser Information***
URL:https://mitmachen-wanne-sued.de/event/faszinierend-liebscher-und-bracht-faszienrolle-und-dehngruppe-nicole-schwerdt/2023-12-05
LOCATION:AWO-Begegungsstätte: Im Sportpark 5\, 44652 Herne\, Im Sportpark 5\, Herne\, 44652
ORGANIZER;CN="Nicole Schwerdt":MAILTO:mail(at)glueck-auf-coach.de
END:VEVENT
BEGIN:VEVENT
DTSTART;TZID=Europe/Berlin:20231204T110000
DTEND;TZID=Europe/Berlin:20231204T160000
DTSTAMP:20260421T215019
CREATED:20231110T125434Z
LAST-MODIFIED:20231110T125753Z
UID:10004189-1701687600-1701705600@mitmachen-wanne-sued.de
SUMMARY:Spielzeug Tauschmark - AWO
DESCRIPTION:Die AWO veranstaltet am Montag\, den 4. Dezember\, einen Spielzeug Tauschmarkt. \nBring dein Spielzeug zum Tauschmarkt und tausche kostenlos. Ab 10 Uhr stehen Tische zum Aufbau bereit. \nLos geht’s um 11 Uhr und der Markt endet gegen 16 Uhr. \n \n  \nPlakat – Spielzeug-Tauschmarkt – 04.12.2023
URL:https://mitmachen-wanne-sued.de/event/spielzeug-tauschmark-awo
LOCATION:AWO-Begegungsstätte: Im Sportpark 5\, 44652 Herne\, Im Sportpark 5\, Herne\, 44652
ORGANIZER;CN="AWO Unterbezirk Ruhr-Mitte":MAILTO:herne@awo-ruhr-mitte.de
END:VEVENT
BEGIN:VEVENT
DTSTART;TZID=Europe/Berlin:20231201T100000
DTEND;TZID=Europe/Berlin:20231201T120000
DTSTAMP:20260421T215019
CREATED:20231110T125202Z
LAST-MODIFIED:20231110T125202Z
UID:10004188-1701424800-1701432000@mitmachen-wanne-sued.de
SUMMARY:3. Internationales Frühstück in der AWO-Begegnungsstätte
DESCRIPTION:Zum dritten Mal veranstaltet die AWO in ihrer Gesunden Begegnungsstätte ein internationales Frühstück. \nAlle sind willkommen. Es wird ein Umkostenbeitrag von 3\,50€ fällig. \nWann: Freitag\, 1. Dezember 2023 von 10-12 Uhr \nWo: AWO-Begegnungsstätte\, Im Sportpark 5\, Wanne-Süd \nAnmeldung erforderlich:\n02323 9524-10\nherne@awo-ruhr-mitte.de \nPDF-Dokument mit der Einladung: 3. Internationales Frühstück – 01.12.2023
URL:https://mitmachen-wanne-sued.de/event/3-internationales-fruehstueck-in-der-awo-begegnungsstaette
LOCATION:AWO-Begegungsstätte: Im Sportpark 5\, 44652 Herne\, Im Sportpark 5\, Herne\, 44652
ORGANIZER;CN="AWO Unterbezirk Ruhr-Mitte":MAILTO:herne@awo-ruhr-mitte.de
END:VEVENT
BEGIN:VEVENT
DTSTART;TZID=Europe/Berlin:20231130T140000
DTEND;TZID=Europe/Berlin:20231130T160000
DTSTAMP:20260421T215019
CREATED:20231025T090935Z
LAST-MODIFIED:20231025T091056Z
UID:10000793-1701352800-1701360000@mitmachen-wanne-sued.de
SUMMARY:Nähkurs für Senioren*innen - Städtische Seniorenberatung
DESCRIPTION:Die Städtische Seniorenberatung bietet jeden Donnerstag von 14 – 16 Uhr einen Nähkurs für Senior*innen an. \nAnmeldung: Städt. Seniorenberatung\,\nTel. 02323/ 163081
URL:https://mitmachen-wanne-sued.de/event/naehkurs-fuer-senioreninnen-staedtische-seniorenberatung/2023-11-30
LOCATION:AWO-Begegungsstätte: Im Sportpark 5\, 44652 Herne\, Im Sportpark 5\, Herne\, 44652
END:VEVENT
BEGIN:VEVENT
DTSTART;TZID=Europe/Berlin:20231130T100000
DTEND;TZID=Europe/Berlin:20231130T113000
DTSTAMP:20260421T215019
CREATED:20231026T115256Z
LAST-MODIFIED:20231026T115411Z
UID:10001576-1701338400-1701343800@mitmachen-wanne-sued.de
SUMMARY:Gedächtnistraining- DRK
DESCRIPTION:Das DRK Quartiersbüro lädt alle Interessierten Bürger und Bürgerinnen zum Gehirnjogging ein. \nWir treffen uns jeden Donnerstag von 10:00-11:30 Uhr in der AWO Begegnungsstätte\, Am Sportpark 5 \nWer Lust hat\, seine grauen Zellen zu trainieren ist herzlich eingeladen! \nKostenfrei \nAnsprechpartnerin: Fr. P. Urban 02325-969-1526  \nHalloHerne Artikel: https://www.halloherne.de/artikel/fit-im-kopf-gedchtnistraining-65104 \n 
URL:https://mitmachen-wanne-sued.de/event/gedaechtnistraining-drk-2/2023-11-30
LOCATION:AWO-Begegungsstätte: Im Sportpark 5\, 44652 Herne\, Im Sportpark 5\, Herne\, 44652
END:VEVENT
BEGIN:VEVENT
DTSTART;TZID=Europe/Berlin:20231128T190000
DTEND;TZID=Europe/Berlin:20231128T200000
DTSTAMP:20260421T215019
CREATED:20231026T142545Z
LAST-MODIFIED:20231026T142725Z
UID:10003931-1701198000-1701201600@mitmachen-wanne-sued.de
SUMMARY:Faszinierend: Liebscher und Bracht Faszienrolle- und Dehngruppe - Nicole Schwerdt
DESCRIPTION:Als zertifizierte Liebscher & Bracht Schmerzspezialistin unterstützt Frau Nicole Schwerdt Sie mit einem für Sie persönlich ausgearbeitetn Programm zur Schmerzlinderung. Mit einer mobilien Liege macht sie ich Hausbesuche und kommt auch gern zu Ihnen. \nDienstags von 19 bis 20 Uhr bietet sie eine Liebscher & Bracht Faszienroll- und Dehngruppe an. \nOrt: AWO Begegnungsstätte\, Im Sportpark 5\, 44652 Herne Wanne-Eickel \nKommen Sie gern dazu. \nKosten: 9\,99€ pro Stunde; 10er- Karte 88€ \n***die IFAK e.V. übernimmt keine Haftung für die Aktualität dieser Information***
URL:https://mitmachen-wanne-sued.de/event/faszinierend-liebscher-und-bracht-faszienrolle-und-dehngruppe-nicole-schwerdt/2023-11-28
LOCATION:AWO-Begegungsstätte: Im Sportpark 5\, 44652 Herne\, Im Sportpark 5\, Herne\, 44652
ORGANIZER;CN="Nicole Schwerdt":MAILTO:mail(at)glueck-auf-coach.de
END:VEVENT
BEGIN:VEVENT
DTSTART;TZID=Europe/Berlin:20231127T150000
DTEND;TZID=Europe/Berlin:20231127T170000
DTSTAMP:20260421T215019
CREATED:20231024T143821Z
LAST-MODIFIED:20231026T152447Z
UID:10000143-1701097200-1701104400@mitmachen-wanne-sued.de
SUMMARY:Digital Café - Senior*innen sicher im Netz- AWO
DESCRIPTION:Die AWO veranstaltet jeden 2. und 4. Montag von 15:00 bis 17:00 Uhr in Zusammenarbeit mit dem Senioren-\nInternetc@fé Herne e.V. ein Digital- Café. \nDie Teilnahme ist kostenfrei. \nIn geselliger Runde bei Kaffee oder Tee dreht sich alles um das Thema Digitalisierung – Handy\, Smartphone\, Tablet\, Computer\, Internet und alle Fragen\, die sich damit ergeben. \nSie bringen Ihre Fragen mit\, z.B.:\n• Fotografieren und Fotos versenden\n• What´s App\n• Soziale Medien\n• Tageszeitung Digital\n• Termine online buchen\n• QR-Codes scannen\n• App´s – was ist das?\n• Und vieles mehr \nPlakat – Digital Café – ohne Start AWO \nFür weiterführende Kurse beim Senioren-Internetc@fe: https://www.internetcafe-herne.de/
URL:https://mitmachen-wanne-sued.de/event/digital-cafe-seniorinnen-sicher-im-netz-2/2023-11-27
LOCATION:AWO-Begegungsstätte: Im Sportpark 5\, 44652 Herne\, Im Sportpark 5\, Herne\, 44652
ORGANIZER;CN="AWO Unterbezirk Ruhr-Mitte":MAILTO:herne@awo-ruhr-mitte.de
END:VEVENT
BEGIN:VEVENT
DTSTART;TZID=Europe/Berlin:20231123T140000
DTEND;TZID=Europe/Berlin:20231123T160000
DTSTAMP:20260421T215019
CREATED:20231025T090935Z
LAST-MODIFIED:20231025T091056Z
UID:10000792-1700748000-1700755200@mitmachen-wanne-sued.de
SUMMARY:Nähkurs für Senioren*innen - Städtische Seniorenberatung
DESCRIPTION:Die Städtische Seniorenberatung bietet jeden Donnerstag von 14 – 16 Uhr einen Nähkurs für Senior*innen an. \nAnmeldung: Städt. Seniorenberatung\,\nTel. 02323/ 163081
URL:https://mitmachen-wanne-sued.de/event/naehkurs-fuer-senioreninnen-staedtische-seniorenberatung/2023-11-23
LOCATION:AWO-Begegungsstätte: Im Sportpark 5\, 44652 Herne\, Im Sportpark 5\, Herne\, 44652
END:VEVENT
BEGIN:VEVENT
DTSTART;TZID=Europe/Berlin:20231123T100000
DTEND;TZID=Europe/Berlin:20231123T113000
DTSTAMP:20260421T215019
CREATED:20231026T115256Z
LAST-MODIFIED:20231026T115411Z
UID:10001575-1700733600-1700739000@mitmachen-wanne-sued.de
SUMMARY:Gedächtnistraining- DRK
DESCRIPTION:Das DRK Quartiersbüro lädt alle Interessierten Bürger und Bürgerinnen zum Gehirnjogging ein. \nWir treffen uns jeden Donnerstag von 10:00-11:30 Uhr in der AWO Begegnungsstätte\, Am Sportpark 5 \nWer Lust hat\, seine grauen Zellen zu trainieren ist herzlich eingeladen! \nKostenfrei \nAnsprechpartnerin: Fr. P. Urban 02325-969-1526  \nHalloHerne Artikel: https://www.halloherne.de/artikel/fit-im-kopf-gedchtnistraining-65104 \n 
URL:https://mitmachen-wanne-sued.de/event/gedaechtnistraining-drk-2/2023-11-23
LOCATION:AWO-Begegungsstätte: Im Sportpark 5\, 44652 Herne\, Im Sportpark 5\, Herne\, 44652
END:VEVENT
BEGIN:VEVENT
DTSTART;TZID=Europe/Berlin:20231121T190000
DTEND;TZID=Europe/Berlin:20231121T200000
DTSTAMP:20260421T215019
CREATED:20231026T142545Z
LAST-MODIFIED:20231026T142725Z
UID:10003930-1700593200-1700596800@mitmachen-wanne-sued.de
SUMMARY:Faszinierend: Liebscher und Bracht Faszienrolle- und Dehngruppe - Nicole Schwerdt
DESCRIPTION:Als zertifizierte Liebscher & Bracht Schmerzspezialistin unterstützt Frau Nicole Schwerdt Sie mit einem für Sie persönlich ausgearbeitetn Programm zur Schmerzlinderung. Mit einer mobilien Liege macht sie ich Hausbesuche und kommt auch gern zu Ihnen. \nDienstags von 19 bis 20 Uhr bietet sie eine Liebscher & Bracht Faszienroll- und Dehngruppe an. \nOrt: AWO Begegnungsstätte\, Im Sportpark 5\, 44652 Herne Wanne-Eickel \nKommen Sie gern dazu. \nKosten: 9\,99€ pro Stunde; 10er- Karte 88€ \n***die IFAK e.V. übernimmt keine Haftung für die Aktualität dieser Information***
URL:https://mitmachen-wanne-sued.de/event/faszinierend-liebscher-und-bracht-faszienrolle-und-dehngruppe-nicole-schwerdt/2023-11-21
LOCATION:AWO-Begegungsstätte: Im Sportpark 5\, 44652 Herne\, Im Sportpark 5\, Herne\, 44652
ORGANIZER;CN="Nicole Schwerdt":MAILTO:mail(at)glueck-auf-coach.de
END:VEVENT
BEGIN:VEVENT
DTSTART;TZID=Europe/Berlin:20231116T140000
DTEND;TZID=Europe/Berlin:20231116T160000
DTSTAMP:20260421T215019
CREATED:20231025T090935Z
LAST-MODIFIED:20231025T091056Z
UID:10000791-1700143200-1700150400@mitmachen-wanne-sued.de
SUMMARY:Nähkurs für Senioren*innen - Städtische Seniorenberatung
DESCRIPTION:Die Städtische Seniorenberatung bietet jeden Donnerstag von 14 – 16 Uhr einen Nähkurs für Senior*innen an. \nAnmeldung: Städt. Seniorenberatung\,\nTel. 02323/ 163081
URL:https://mitmachen-wanne-sued.de/event/naehkurs-fuer-senioreninnen-staedtische-seniorenberatung/2023-11-16
LOCATION:AWO-Begegungsstätte: Im Sportpark 5\, 44652 Herne\, Im Sportpark 5\, Herne\, 44652
END:VEVENT
BEGIN:VEVENT
DTSTART;TZID=Europe/Berlin:20231116T100000
DTEND;TZID=Europe/Berlin:20231116T113000
DTSTAMP:20260421T215019
CREATED:20231026T115256Z
LAST-MODIFIED:20231026T115411Z
UID:10001574-1700128800-1700134200@mitmachen-wanne-sued.de
SUMMARY:Gedächtnistraining- DRK
DESCRIPTION:Das DRK Quartiersbüro lädt alle Interessierten Bürger und Bürgerinnen zum Gehirnjogging ein. \nWir treffen uns jeden Donnerstag von 10:00-11:30 Uhr in der AWO Begegnungsstätte\, Am Sportpark 5 \nWer Lust hat\, seine grauen Zellen zu trainieren ist herzlich eingeladen! \nKostenfrei \nAnsprechpartnerin: Fr. P. Urban 02325-969-1526  \nHalloHerne Artikel: https://www.halloherne.de/artikel/fit-im-kopf-gedchtnistraining-65104 \n 
URL:https://mitmachen-wanne-sued.de/event/gedaechtnistraining-drk-2/2023-11-16
LOCATION:AWO-Begegungsstätte: Im Sportpark 5\, 44652 Herne\, Im Sportpark 5\, Herne\, 44652
END:VEVENT
BEGIN:VEVENT
DTSTART;TZID=Europe/Berlin:20231114T190000
DTEND;TZID=Europe/Berlin:20231114T200000
DTSTAMP:20260421T215019
CREATED:20231026T142545Z
LAST-MODIFIED:20231026T142725Z
UID:10003929-1699988400-1699992000@mitmachen-wanne-sued.de
SUMMARY:Faszinierend: Liebscher und Bracht Faszienrolle- und Dehngruppe - Nicole Schwerdt
DESCRIPTION:Als zertifizierte Liebscher & Bracht Schmerzspezialistin unterstützt Frau Nicole Schwerdt Sie mit einem für Sie persönlich ausgearbeitetn Programm zur Schmerzlinderung. Mit einer mobilien Liege macht sie ich Hausbesuche und kommt auch gern zu Ihnen. \nDienstags von 19 bis 20 Uhr bietet sie eine Liebscher & Bracht Faszienroll- und Dehngruppe an. \nOrt: AWO Begegnungsstätte\, Im Sportpark 5\, 44652 Herne Wanne-Eickel \nKommen Sie gern dazu. \nKosten: 9\,99€ pro Stunde; 10er- Karte 88€ \n***die IFAK e.V. übernimmt keine Haftung für die Aktualität dieser Information***
URL:https://mitmachen-wanne-sued.de/event/faszinierend-liebscher-und-bracht-faszienrolle-und-dehngruppe-nicole-schwerdt/2023-11-14
LOCATION:AWO-Begegungsstätte: Im Sportpark 5\, 44652 Herne\, Im Sportpark 5\, Herne\, 44652
ORGANIZER;CN="Nicole Schwerdt":MAILTO:mail(at)glueck-auf-coach.de
END:VEVENT
BEGIN:VEVENT
DTSTART;TZID=Europe/Berlin:20231113T150000
DTEND;TZID=Europe/Berlin:20231113T170000
DTSTAMP:20260421T215019
CREATED:20231024T143746Z
LAST-MODIFIED:20231024T143858Z
UID:10000023-1699887600-1699894800@mitmachen-wanne-sued.de
SUMMARY:Digital Café - Senior*innen sicher im Netz- AWO
DESCRIPTION:Die AWO veranstaltet jeden 2. und 4. Montag von 15:00 bis 17:00 Uhr in Zusammenarbeit mit dem Senioren-\nInternetc@fé Herne e.V. ein Digital- Café. \nDie Teilnahme ist kostenfrei. \nIn geselliger Runde bei Kaffee oder Tee dreht sich alles um das Thema Digitalisierung – Handy\, Smartphone\, Tablet\, Computer\, Internet und alle Fragen\, die sich damit ergeben. \nSie bringen Ihre Fragen mit\, z.B.:\n• Fotografieren und Fotos versenden\n• What´s App\n• Soziale Medien\n• Tageszeitung Digital\n• Termine online buchen\n• QR-Codes scannen\n• App´s – was ist das?\n• Und vieles mehr \nPlakat – Digital Café – ohne Start AWO
URL:https://mitmachen-wanne-sued.de/event/digital-cafe-seniorinnen-sicher-im-netz/2023-11-13
LOCATION:AWO-Begegungsstätte: Im Sportpark 5\, 44652 Herne\, Im Sportpark 5\, Herne\, 44652
ORGANIZER;CN="AWO Unterbezirk Ruhr-Mitte":MAILTO:herne@awo-ruhr-mitte.de
END:VEVENT
BEGIN:VEVENT
DTSTART;TZID=Europe/Berlin:20231109T140000
DTEND;TZID=Europe/Berlin:20231109T160000
DTSTAMP:20260421T215019
CREATED:20231025T090935Z
LAST-MODIFIED:20231025T091056Z
UID:10000790-1699538400-1699545600@mitmachen-wanne-sued.de
SUMMARY:Nähkurs für Senioren*innen - Städtische Seniorenberatung
DESCRIPTION:Die Städtische Seniorenberatung bietet jeden Donnerstag von 14 – 16 Uhr einen Nähkurs für Senior*innen an. \nAnmeldung: Städt. Seniorenberatung\,\nTel. 02323/ 163081
URL:https://mitmachen-wanne-sued.de/event/naehkurs-fuer-senioreninnen-staedtische-seniorenberatung/2023-11-09
LOCATION:AWO-Begegungsstätte: Im Sportpark 5\, 44652 Herne\, Im Sportpark 5\, Herne\, 44652
END:VEVENT
BEGIN:VEVENT
DTSTART;TZID=Europe/Berlin:20231109T100000
DTEND;TZID=Europe/Berlin:20231109T113000
DTSTAMP:20260421T215019
CREATED:20231026T115256Z
LAST-MODIFIED:20231026T115411Z
UID:10001572-1699524000-1699529400@mitmachen-wanne-sued.de
SUMMARY:Gedächtnistraining- DRK
DESCRIPTION:Das DRK Quartiersbüro lädt alle Interessierten Bürger und Bürgerinnen zum Gehirnjogging ein. \nWir treffen uns jeden Donnerstag von 10:00-11:30 Uhr in der AWO Begegnungsstätte\, Am Sportpark 5 \nWer Lust hat\, seine grauen Zellen zu trainieren ist herzlich eingeladen! \nKostenfrei \nAnsprechpartnerin: Fr. P. Urban 02325-969-1526  \nHalloHerne Artikel: https://www.halloherne.de/artikel/fit-im-kopf-gedchtnistraining-65104 \n 
URL:https://mitmachen-wanne-sued.de/event/gedaechtnistraining-drk-2/2023-11-09
LOCATION:AWO-Begegungsstätte: Im Sportpark 5\, 44652 Herne\, Im Sportpark 5\, Herne\, 44652
END:VEVENT
BEGIN:VEVENT
DTSTART;TZID=Europe/Berlin:20231107T190000
DTEND;TZID=Europe/Berlin:20231107T200000
DTSTAMP:20260421T215019
CREATED:20231026T142545Z
LAST-MODIFIED:20231026T142725Z
UID:10003928-1699383600-1699387200@mitmachen-wanne-sued.de
SUMMARY:Faszinierend: Liebscher und Bracht Faszienrolle- und Dehngruppe - Nicole Schwerdt
DESCRIPTION:Als zertifizierte Liebscher & Bracht Schmerzspezialistin unterstützt Frau Nicole Schwerdt Sie mit einem für Sie persönlich ausgearbeitetn Programm zur Schmerzlinderung. Mit einer mobilien Liege macht sie ich Hausbesuche und kommt auch gern zu Ihnen. \nDienstags von 19 bis 20 Uhr bietet sie eine Liebscher & Bracht Faszienroll- und Dehngruppe an. \nOrt: AWO Begegnungsstätte\, Im Sportpark 5\, 44652 Herne Wanne-Eickel \nKommen Sie gern dazu. \nKosten: 9\,99€ pro Stunde; 10er- Karte 88€ \n***die IFAK e.V. übernimmt keine Haftung für die Aktualität dieser Information***
URL:https://mitmachen-wanne-sued.de/event/faszinierend-liebscher-und-bracht-faszienrolle-und-dehngruppe-nicole-schwerdt/2023-11-07
LOCATION:AWO-Begegungsstätte: Im Sportpark 5\, 44652 Herne\, Im Sportpark 5\, Herne\, 44652
ORGANIZER;CN="Nicole Schwerdt":MAILTO:mail(at)glueck-auf-coach.de
END:VEVENT
BEGIN:VEVENT
DTSTART;TZID=Europe/Berlin:20231103T100000
DTEND;TZID=Europe/Berlin:20231103T120000
DTSTAMP:20260421T215019
CREATED:20231017T161541Z
LAST-MODIFIED:20231026T123443Z
UID:10000022-1699005600-1699012800@mitmachen-wanne-sued.de
SUMMARY:2. Internationales Frühstück in der AWO-Begegnungsstätte
DESCRIPTION:Zum zweiten Mal veranstaltet die AWO in ihrer Gesunden Begegnungsstätte ein internationales Frühstück. \nAlle sind willkommen. Es wird ein Umkostenbeitrag von 3\,50€ fällig. \nWann: Freitag\, 3. November von 10-12 Uhr \nWo: AWO-Begegnungsstätte\, Im Sportpark 5\, Wanne-Süd \nAnmeldung erforderlich:\n02323 9524-10\nherne@awo-ruhr-mitte.de \nPDF-Dokument mit der Einladung: 03.11.2023 Internationales Frühstück \nLink zu HalloHerne Artikel
URL:https://mitmachen-wanne-sued.de/event/2-internationales-fruehstueck-in-der-awo-begegnungsstaette
LOCATION:AWO-Begegungsstätte: Im Sportpark 5\, 44652 Herne\, Im Sportpark 5\, Herne\, 44652
ORGANIZER;CN="AWO Unterbezirk Ruhr-Mitte":MAILTO:herne@awo-ruhr-mitte.de
END:VEVENT
BEGIN:VEVENT
DTSTART;TZID=Europe/Berlin:20231102T140000
DTEND;TZID=Europe/Berlin:20231102T160000
DTSTAMP:20260421T215019
CREATED:20231025T090935Z
LAST-MODIFIED:20231025T091056Z
UID:10000789-1698933600-1698940800@mitmachen-wanne-sued.de
SUMMARY:Nähkurs für Senioren*innen - Städtische Seniorenberatung
DESCRIPTION:Die Städtische Seniorenberatung bietet jeden Donnerstag von 14 – 16 Uhr einen Nähkurs für Senior*innen an. \nAnmeldung: Städt. Seniorenberatung\,\nTel. 02323/ 163081
URL:https://mitmachen-wanne-sued.de/event/naehkurs-fuer-senioreninnen-staedtische-seniorenberatung/2023-11-02
LOCATION:AWO-Begegungsstätte: Im Sportpark 5\, 44652 Herne\, Im Sportpark 5\, Herne\, 44652
END:VEVENT
BEGIN:VEVENT
DTSTART;TZID=Europe/Berlin:20231031T190000
DTEND;TZID=Europe/Berlin:20231031T200000
DTSTAMP:20260421T215019
CREATED:20231026T142545Z
LAST-MODIFIED:20231026T142725Z
UID:10003927-1698778800-1698782400@mitmachen-wanne-sued.de
SUMMARY:Faszinierend: Liebscher und Bracht Faszienrolle- und Dehngruppe - Nicole Schwerdt
DESCRIPTION:Als zertifizierte Liebscher & Bracht Schmerzspezialistin unterstützt Frau Nicole Schwerdt Sie mit einem für Sie persönlich ausgearbeitetn Programm zur Schmerzlinderung. Mit einer mobilien Liege macht sie ich Hausbesuche und kommt auch gern zu Ihnen. \nDienstags von 19 bis 20 Uhr bietet sie eine Liebscher & Bracht Faszienroll- und Dehngruppe an. \nOrt: AWO Begegnungsstätte\, Im Sportpark 5\, 44652 Herne Wanne-Eickel \nKommen Sie gern dazu. \nKosten: 9\,99€ pro Stunde; 10er- Karte 88€ \n***die IFAK e.V. übernimmt keine Haftung für die Aktualität dieser Information***
URL:https://mitmachen-wanne-sued.de/event/faszinierend-liebscher-und-bracht-faszienrolle-und-dehngruppe-nicole-schwerdt/2023-10-31
LOCATION:AWO-Begegungsstätte: Im Sportpark 5\, 44652 Herne\, Im Sportpark 5\, Herne\, 44652
ORGANIZER;CN="Nicole Schwerdt":MAILTO:mail(at)glueck-auf-coach.de
END:VEVENT
BEGIN:VEVENT
DTSTART;TZID=Europe/Berlin:20231026T140000
DTEND;TZID=Europe/Berlin:20231026T160000
DTSTAMP:20260421T215019
CREATED:20231025T090935Z
LAST-MODIFIED:20231025T091056Z
UID:10000788-1698328800-1698336000@mitmachen-wanne-sued.de
SUMMARY:Nähkurs für Senioren*innen - Städtische Seniorenberatung
DESCRIPTION:Die Städtische Seniorenberatung bietet jeden Donnerstag von 14 – 16 Uhr einen Nähkurs für Senior*innen an. \nAnmeldung: Städt. Seniorenberatung\,\nTel. 02323/ 163081
URL:https://mitmachen-wanne-sued.de/event/naehkurs-fuer-senioreninnen-staedtische-seniorenberatung/2023-10-26
LOCATION:AWO-Begegungsstätte: Im Sportpark 5\, 44652 Herne\, Im Sportpark 5\, Herne\, 44652
END:VEVENT
BEGIN:VEVENT
DTSTART;TZID=Europe/Berlin:20231024T190000
DTEND;TZID=Europe/Berlin:20231024T200000
DTSTAMP:20260421T215019
CREATED:20231026T142545Z
LAST-MODIFIED:20231026T142725Z
UID:10003926-1698174000-1698177600@mitmachen-wanne-sued.de
SUMMARY:Faszinierend: Liebscher und Bracht Faszienrolle- und Dehngruppe - Nicole Schwerdt
DESCRIPTION:Als zertifizierte Liebscher & Bracht Schmerzspezialistin unterstützt Frau Nicole Schwerdt Sie mit einem für Sie persönlich ausgearbeitetn Programm zur Schmerzlinderung. Mit einer mobilien Liege macht sie ich Hausbesuche und kommt auch gern zu Ihnen. \nDienstags von 19 bis 20 Uhr bietet sie eine Liebscher & Bracht Faszienroll- und Dehngruppe an. \nOrt: AWO Begegnungsstätte\, Im Sportpark 5\, 44652 Herne Wanne-Eickel \nKommen Sie gern dazu. \nKosten: 9\,99€ pro Stunde; 10er- Karte 88€ \n***die IFAK e.V. übernimmt keine Haftung für die Aktualität dieser Information***
URL:https://mitmachen-wanne-sued.de/event/faszinierend-liebscher-und-bracht-faszienrolle-und-dehngruppe-nicole-schwerdt/2023-10-24
LOCATION:AWO-Begegungsstätte: Im Sportpark 5\, 44652 Herne\, Im Sportpark 5\, Herne\, 44652
ORGANIZER;CN="Nicole Schwerdt":MAILTO:mail(at)glueck-auf-coach.de
END:VEVENT
END:VCALENDAR