BEGIN:VCALENDAR
VERSION:2.0
PRODID:-//mitmachen-wanne-sued - ECPv6.3.0//NONSGML v1.0//EN
CALSCALE:GREGORIAN
METHOD:PUBLISH
X-ORIGINAL-URL:https://mitmachen-wanne-sued.de
X-WR-CALDESC:Veranstaltungen für mitmachen-wanne-sued
REFRESH-INTERVAL;VALUE=DURATION:PT1H
X-Robots-Tag:noindex
X-PUBLISHED-TTL:PT1H
BEGIN:VTIMEZONE
TZID:Europe/Berlin
BEGIN:DAYLIGHT
TZOFFSETFROM:+0100
TZOFFSETTO:+0200
TZNAME:CEST
DTSTART:20230326T010000
END:DAYLIGHT
BEGIN:STANDARD
TZOFFSETFROM:+0200
TZOFFSETTO:+0100
TZNAME:CET
DTSTART:20231029T010000
END:STANDARD
END:VTIMEZONE
BEGIN:VEVENT
DTSTART;TZID=Europe/Berlin:20231026T140000
DTEND;TZID=Europe/Berlin:20231026T160000
DTSTAMP:20260422T004303
CREATED:20231025T090935Z
LAST-MODIFIED:20231025T091056Z
UID:10000788-1698328800-1698336000@mitmachen-wanne-sued.de
SUMMARY:Nähkurs für Senioren*innen - Städtische Seniorenberatung
DESCRIPTION:Die Städtische Seniorenberatung bietet jeden Donnerstag von 14 – 16 Uhr einen Nähkurs für Senior*innen an. \nAnmeldung: Städt. Seniorenberatung\,\nTel. 02323/ 163081
URL:https://mitmachen-wanne-sued.de/event/naehkurs-fuer-senioreninnen-staedtische-seniorenberatung/2023-10-26
LOCATION:AWO-Begegungsstätte: Im Sportpark 5\, 44652 Herne\, Im Sportpark 5\, Herne\, 44652
END:VEVENT
BEGIN:VEVENT
DTSTART;TZID=Europe/Berlin:20231024T190000
DTEND;TZID=Europe/Berlin:20231024T200000
DTSTAMP:20260422T004303
CREATED:20231026T142545Z
LAST-MODIFIED:20231026T142725Z
UID:10003926-1698174000-1698177600@mitmachen-wanne-sued.de
SUMMARY:Faszinierend: Liebscher und Bracht Faszienrolle- und Dehngruppe - Nicole Schwerdt
DESCRIPTION:Als zertifizierte Liebscher & Bracht Schmerzspezialistin unterstützt Frau Nicole Schwerdt Sie mit einem für Sie persönlich ausgearbeitetn Programm zur Schmerzlinderung. Mit einer mobilien Liege macht sie ich Hausbesuche und kommt auch gern zu Ihnen. \nDienstags von 19 bis 20 Uhr bietet sie eine Liebscher & Bracht Faszienroll- und Dehngruppe an. \nOrt: AWO Begegnungsstätte\, Im Sportpark 5\, 44652 Herne Wanne-Eickel \nKommen Sie gern dazu. \nKosten: 9\,99€ pro Stunde; 10er- Karte 88€ \n***die IFAK e.V. übernimmt keine Haftung für die Aktualität dieser Information***
URL:https://mitmachen-wanne-sued.de/event/faszinierend-liebscher-und-bracht-faszienrolle-und-dehngruppe-nicole-schwerdt/2023-10-24
LOCATION:AWO-Begegungsstätte: Im Sportpark 5\, 44652 Herne\, Im Sportpark 5\, Herne\, 44652
ORGANIZER;CN="Nicole Schwerdt":MAILTO:mail(at)glueck-auf-coach.de
END:VEVENT
END:VCALENDAR